BEGIN:VCALENDAR
VERSION:2.0
PRODID:-//Wallonie activités &amp; Shopping - ECPv6.15.20//NONSGML v1.0//EN
CALSCALE:GREGORIAN
METHOD:PUBLISH
X-WR-CALNAME:Wallonie activités &amp; Shopping
X-ORIGINAL-URL:https://wallonie.events
X-WR-CALDESC:Évènements pour Wallonie activités &amp; Shopping
REFRESH-INTERVAL;VALUE=DURATION:PT1H
X-Robots-Tag:noindex
X-PUBLISHED-TTL:PT1H
BEGIN:VTIMEZONE
TZID:Europe/Brussels
BEGIN:DAYLIGHT
TZOFFSETFROM:+0100
TZOFFSETTO:+0200
TZNAME:CEST
DTSTART:20230326T010000
END:DAYLIGHT
BEGIN:STANDARD
TZOFFSETFROM:+0200
TZOFFSETTO:+0100
TZNAME:CET
DTSTART:20231029T010000
END:STANDARD
BEGIN:DAYLIGHT
TZOFFSETFROM:+0100
TZOFFSETTO:+0200
TZNAME:CEST
DTSTART:20240331T010000
END:DAYLIGHT
BEGIN:STANDARD
TZOFFSETFROM:+0200
TZOFFSETTO:+0100
TZNAME:CET
DTSTART:20241027T010000
END:STANDARD
BEGIN:DAYLIGHT
TZOFFSETFROM:+0100
TZOFFSETTO:+0200
TZNAME:CEST
DTSTART:20250330T010000
END:DAYLIGHT
BEGIN:STANDARD
TZOFFSETFROM:+0200
TZOFFSETTO:+0100
TZNAME:CET
DTSTART:20251026T010000
END:STANDARD
BEGIN:DAYLIGHT
TZOFFSETFROM:+0100
TZOFFSETTO:+0200
TZNAME:CEST
DTSTART:20260329T010000
END:DAYLIGHT
BEGIN:STANDARD
TZOFFSETFROM:+0200
TZOFFSETTO:+0100
TZNAME:CET
DTSTART:20261025T010000
END:STANDARD
END:VTIMEZONE
BEGIN:VEVENT
DTSTART;TZID=Europe/Brussels:20250225T080000
DTEND;TZID=Europe/Brussels:20250225T130000
DTSTAMP:20260423T105521
CREATED:20240423T161834Z
LAST-MODIFIED:20240423T161834Z
UID:10018678-1740470400-1740488400@wallonie.events
SUMMARY:marché de Aubel
DESCRIPTION:retrouvez le marché à Aubel le Dimanche et le mardi de 8h à 13h au millieu du village\, \nvous trouverez toutes sortes de produits allant de Fruits\, légumes\, charcuteries\, fromages\, pains\, poissons\, vêtements\, fleurs et plantes\,… rien ne manque en plus de nombreux commerces sont ouverts pour l’occasion. \nVous trouverez facilement un endroit pour vous garer \nTOUT SAVOIR 
URL:https://wallonie.events/activite/marche-de-aubel/2025-02-25/
LOCATION:Centre ville de Aubel\, centre ville de Aubel\, Aubel\, Région Wallonne\, 4880\, Belgique
CATEGORIES:Marchés
ATTACH;FMTTYPE=image/jpeg:https://wallonie.events/wp-content/uploads/2024/04/Marche-de-aubel.jpg
END:VEVENT
BEGIN:VEVENT
DTSTART;TZID=Europe/Brussels:20250223T080000
DTEND;TZID=Europe/Brussels:20250223T130000
DTSTAMP:20260423T105521
CREATED:20240423T161834Z
LAST-MODIFIED:20240423T161834Z
UID:10018677-1740297600-1740315600@wallonie.events
SUMMARY:marché de Aubel
DESCRIPTION:retrouvez le marché à Aubel le Dimanche et le mardi de 8h à 13h au millieu du village\, \nvous trouverez toutes sortes de produits allant de Fruits\, légumes\, charcuteries\, fromages\, pains\, poissons\, vêtements\, fleurs et plantes\,… rien ne manque en plus de nombreux commerces sont ouverts pour l’occasion. \nVous trouverez facilement un endroit pour vous garer \nTOUT SAVOIR 
URL:https://wallonie.events/activite/marche-de-aubel/2025-02-23/
LOCATION:Centre ville de Aubel\, centre ville de Aubel\, Aubel\, Région Wallonne\, 4880\, Belgique
CATEGORIES:Marchés
ATTACH;FMTTYPE=image/jpeg:https://wallonie.events/wp-content/uploads/2024/04/Marche-de-aubel.jpg
END:VEVENT
BEGIN:VEVENT
DTSTART;TZID=Europe/Brussels:20250218T080000
DTEND;TZID=Europe/Brussels:20250218T130000
DTSTAMP:20260423T105521
CREATED:20240423T161834Z
LAST-MODIFIED:20240423T161834Z
UID:10018676-1739865600-1739883600@wallonie.events
SUMMARY:marché de Aubel
DESCRIPTION:retrouvez le marché à Aubel le Dimanche et le mardi de 8h à 13h au millieu du village\, \nvous trouverez toutes sortes de produits allant de Fruits\, légumes\, charcuteries\, fromages\, pains\, poissons\, vêtements\, fleurs et plantes\,… rien ne manque en plus de nombreux commerces sont ouverts pour l’occasion. \nVous trouverez facilement un endroit pour vous garer \nTOUT SAVOIR 
URL:https://wallonie.events/activite/marche-de-aubel/2025-02-18/
LOCATION:Centre ville de Aubel\, centre ville de Aubel\, Aubel\, Région Wallonne\, 4880\, Belgique
CATEGORIES:Marchés
ATTACH;FMTTYPE=image/jpeg:https://wallonie.events/wp-content/uploads/2024/04/Marche-de-aubel.jpg
END:VEVENT
BEGIN:VEVENT
DTSTART;TZID=Europe/Brussels:20250216T080000
DTEND;TZID=Europe/Brussels:20250216T130000
DTSTAMP:20260423T105521
CREATED:20240423T161834Z
LAST-MODIFIED:20240423T161834Z
UID:10018675-1739692800-1739710800@wallonie.events
SUMMARY:marché de Aubel
DESCRIPTION:retrouvez le marché à Aubel le Dimanche et le mardi de 8h à 13h au millieu du village\, \nvous trouverez toutes sortes de produits allant de Fruits\, légumes\, charcuteries\, fromages\, pains\, poissons\, vêtements\, fleurs et plantes\,… rien ne manque en plus de nombreux commerces sont ouverts pour l’occasion. \nVous trouverez facilement un endroit pour vous garer \nTOUT SAVOIR 
URL:https://wallonie.events/activite/marche-de-aubel/2025-02-16/
LOCATION:Centre ville de Aubel\, centre ville de Aubel\, Aubel\, Région Wallonne\, 4880\, Belgique
CATEGORIES:Marchés
ATTACH;FMTTYPE=image/jpeg:https://wallonie.events/wp-content/uploads/2024/04/Marche-de-aubel.jpg
END:VEVENT
BEGIN:VEVENT
DTSTART;TZID=Europe/Brussels:20250211T080000
DTEND;TZID=Europe/Brussels:20250211T130000
DTSTAMP:20260423T105521
CREATED:20240423T161834Z
LAST-MODIFIED:20240423T161834Z
UID:10018674-1739260800-1739278800@wallonie.events
SUMMARY:marché de Aubel
DESCRIPTION:retrouvez le marché à Aubel le Dimanche et le mardi de 8h à 13h au millieu du village\, \nvous trouverez toutes sortes de produits allant de Fruits\, légumes\, charcuteries\, fromages\, pains\, poissons\, vêtements\, fleurs et plantes\,… rien ne manque en plus de nombreux commerces sont ouverts pour l’occasion. \nVous trouverez facilement un endroit pour vous garer \nTOUT SAVOIR 
URL:https://wallonie.events/activite/marche-de-aubel/2025-02-11/
LOCATION:Centre ville de Aubel\, centre ville de Aubel\, Aubel\, Région Wallonne\, 4880\, Belgique
CATEGORIES:Marchés
ATTACH;FMTTYPE=image/jpeg:https://wallonie.events/wp-content/uploads/2024/04/Marche-de-aubel.jpg
END:VEVENT
BEGIN:VEVENT
DTSTART;TZID=Europe/Brussels:20250209T080000
DTEND;TZID=Europe/Brussels:20250209T130000
DTSTAMP:20260423T105521
CREATED:20240423T161834Z
LAST-MODIFIED:20240423T161834Z
UID:10018673-1739088000-1739106000@wallonie.events
SUMMARY:marché de Aubel
DESCRIPTION:retrouvez le marché à Aubel le Dimanche et le mardi de 8h à 13h au millieu du village\, \nvous trouverez toutes sortes de produits allant de Fruits\, légumes\, charcuteries\, fromages\, pains\, poissons\, vêtements\, fleurs et plantes\,… rien ne manque en plus de nombreux commerces sont ouverts pour l’occasion. \nVous trouverez facilement un endroit pour vous garer \nTOUT SAVOIR 
URL:https://wallonie.events/activite/marche-de-aubel/2025-02-09/
LOCATION:Centre ville de Aubel\, centre ville de Aubel\, Aubel\, Région Wallonne\, 4880\, Belgique
CATEGORIES:Marchés
ATTACH;FMTTYPE=image/jpeg:https://wallonie.events/wp-content/uploads/2024/04/Marche-de-aubel.jpg
END:VEVENT
BEGIN:VEVENT
DTSTART;TZID=Europe/Brussels:20250204T080000
DTEND;TZID=Europe/Brussels:20250204T130000
DTSTAMP:20260423T105521
CREATED:20240423T161834Z
LAST-MODIFIED:20240423T161834Z
UID:10018672-1738656000-1738674000@wallonie.events
SUMMARY:marché de Aubel
DESCRIPTION:retrouvez le marché à Aubel le Dimanche et le mardi de 8h à 13h au millieu du village\, \nvous trouverez toutes sortes de produits allant de Fruits\, légumes\, charcuteries\, fromages\, pains\, poissons\, vêtements\, fleurs et plantes\,… rien ne manque en plus de nombreux commerces sont ouverts pour l’occasion. \nVous trouverez facilement un endroit pour vous garer \nTOUT SAVOIR 
URL:https://wallonie.events/activite/marche-de-aubel/2025-02-04/
LOCATION:Centre ville de Aubel\, centre ville de Aubel\, Aubel\, Région Wallonne\, 4880\, Belgique
CATEGORIES:Marchés
ATTACH;FMTTYPE=image/jpeg:https://wallonie.events/wp-content/uploads/2024/04/Marche-de-aubel.jpg
END:VEVENT
BEGIN:VEVENT
DTSTART;TZID=Europe/Brussels:20250202T080000
DTEND;TZID=Europe/Brussels:20250202T130000
DTSTAMP:20260423T105521
CREATED:20240423T161834Z
LAST-MODIFIED:20240423T161834Z
UID:10018671-1738483200-1738501200@wallonie.events
SUMMARY:marché de Aubel
DESCRIPTION:retrouvez le marché à Aubel le Dimanche et le mardi de 8h à 13h au millieu du village\, \nvous trouverez toutes sortes de produits allant de Fruits\, légumes\, charcuteries\, fromages\, pains\, poissons\, vêtements\, fleurs et plantes\,… rien ne manque en plus de nombreux commerces sont ouverts pour l’occasion. \nVous trouverez facilement un endroit pour vous garer \nTOUT SAVOIR 
URL:https://wallonie.events/activite/marche-de-aubel/2025-02-02/
LOCATION:Centre ville de Aubel\, centre ville de Aubel\, Aubel\, Région Wallonne\, 4880\, Belgique
CATEGORIES:Marchés
ATTACH;FMTTYPE=image/jpeg:https://wallonie.events/wp-content/uploads/2024/04/Marche-de-aubel.jpg
END:VEVENT
BEGIN:VEVENT
DTSTART;TZID=Europe/Brussels:20250128T080000
DTEND;TZID=Europe/Brussels:20250128T130000
DTSTAMP:20260423T105521
CREATED:20240423T161834Z
LAST-MODIFIED:20240423T161834Z
UID:10018670-1738051200-1738069200@wallonie.events
SUMMARY:marché de Aubel
DESCRIPTION:retrouvez le marché à Aubel le Dimanche et le mardi de 8h à 13h au millieu du village\, \nvous trouverez toutes sortes de produits allant de Fruits\, légumes\, charcuteries\, fromages\, pains\, poissons\, vêtements\, fleurs et plantes\,… rien ne manque en plus de nombreux commerces sont ouverts pour l’occasion. \nVous trouverez facilement un endroit pour vous garer \nTOUT SAVOIR 
URL:https://wallonie.events/activite/marche-de-aubel/2025-01-28/
LOCATION:Centre ville de Aubel\, centre ville de Aubel\, Aubel\, Région Wallonne\, 4880\, Belgique
CATEGORIES:Marchés
ATTACH;FMTTYPE=image/jpeg:https://wallonie.events/wp-content/uploads/2024/04/Marche-de-aubel.jpg
END:VEVENT
BEGIN:VEVENT
DTSTART;TZID=Europe/Brussels:20250126T080000
DTEND;TZID=Europe/Brussels:20250126T130000
DTSTAMP:20260423T105521
CREATED:20240423T161834Z
LAST-MODIFIED:20240423T161834Z
UID:10018669-1737878400-1737896400@wallonie.events
SUMMARY:marché de Aubel
DESCRIPTION:retrouvez le marché à Aubel le Dimanche et le mardi de 8h à 13h au millieu du village\, \nvous trouverez toutes sortes de produits allant de Fruits\, légumes\, charcuteries\, fromages\, pains\, poissons\, vêtements\, fleurs et plantes\,… rien ne manque en plus de nombreux commerces sont ouverts pour l’occasion. \nVous trouverez facilement un endroit pour vous garer \nTOUT SAVOIR 
URL:https://wallonie.events/activite/marche-de-aubel/2025-01-26/
LOCATION:Centre ville de Aubel\, centre ville de Aubel\, Aubel\, Région Wallonne\, 4880\, Belgique
CATEGORIES:Marchés
ATTACH;FMTTYPE=image/jpeg:https://wallonie.events/wp-content/uploads/2024/04/Marche-de-aubel.jpg
END:VEVENT
BEGIN:VEVENT
DTSTART;TZID=Europe/Brussels:20250121T080000
DTEND;TZID=Europe/Brussels:20250121T130000
DTSTAMP:20260423T105521
CREATED:20240423T161834Z
LAST-MODIFIED:20240423T161834Z
UID:10018668-1737446400-1737464400@wallonie.events
SUMMARY:marché de Aubel
DESCRIPTION:retrouvez le marché à Aubel le Dimanche et le mardi de 8h à 13h au millieu du village\, \nvous trouverez toutes sortes de produits allant de Fruits\, légumes\, charcuteries\, fromages\, pains\, poissons\, vêtements\, fleurs et plantes\,… rien ne manque en plus de nombreux commerces sont ouverts pour l’occasion. \nVous trouverez facilement un endroit pour vous garer \nTOUT SAVOIR 
URL:https://wallonie.events/activite/marche-de-aubel/2025-01-21/
LOCATION:Centre ville de Aubel\, centre ville de Aubel\, Aubel\, Région Wallonne\, 4880\, Belgique
CATEGORIES:Marchés
ATTACH;FMTTYPE=image/jpeg:https://wallonie.events/wp-content/uploads/2024/04/Marche-de-aubel.jpg
END:VEVENT
BEGIN:VEVENT
DTSTART;TZID=Europe/Brussels:20250119T080000
DTEND;TZID=Europe/Brussels:20250119T130000
DTSTAMP:20260423T105521
CREATED:20240423T161834Z
LAST-MODIFIED:20240423T161834Z
UID:10018667-1737273600-1737291600@wallonie.events
SUMMARY:marché de Aubel
DESCRIPTION:retrouvez le marché à Aubel le Dimanche et le mardi de 8h à 13h au millieu du village\, \nvous trouverez toutes sortes de produits allant de Fruits\, légumes\, charcuteries\, fromages\, pains\, poissons\, vêtements\, fleurs et plantes\,… rien ne manque en plus de nombreux commerces sont ouverts pour l’occasion. \nVous trouverez facilement un endroit pour vous garer \nTOUT SAVOIR 
URL:https://wallonie.events/activite/marche-de-aubel/2025-01-19/
LOCATION:Centre ville de Aubel\, centre ville de Aubel\, Aubel\, Région Wallonne\, 4880\, Belgique
CATEGORIES:Marchés
ATTACH;FMTTYPE=image/jpeg:https://wallonie.events/wp-content/uploads/2024/04/Marche-de-aubel.jpg
END:VEVENT
BEGIN:VEVENT
DTSTART;TZID=Europe/Brussels:20250114T080000
DTEND;TZID=Europe/Brussels:20250114T130000
DTSTAMP:20260423T105521
CREATED:20240423T161834Z
LAST-MODIFIED:20240423T161834Z
UID:10018666-1736841600-1736859600@wallonie.events
SUMMARY:marché de Aubel
DESCRIPTION:retrouvez le marché à Aubel le Dimanche et le mardi de 8h à 13h au millieu du village\, \nvous trouverez toutes sortes de produits allant de Fruits\, légumes\, charcuteries\, fromages\, pains\, poissons\, vêtements\, fleurs et plantes\,… rien ne manque en plus de nombreux commerces sont ouverts pour l’occasion. \nVous trouverez facilement un endroit pour vous garer \nTOUT SAVOIR 
URL:https://wallonie.events/activite/marche-de-aubel/2025-01-14/
LOCATION:Centre ville de Aubel\, centre ville de Aubel\, Aubel\, Région Wallonne\, 4880\, Belgique
CATEGORIES:Marchés
ATTACH;FMTTYPE=image/jpeg:https://wallonie.events/wp-content/uploads/2024/04/Marche-de-aubel.jpg
END:VEVENT
BEGIN:VEVENT
DTSTART;TZID=Europe/Brussels:20250112T080000
DTEND;TZID=Europe/Brussels:20250112T130000
DTSTAMP:20260423T105521
CREATED:20240423T161834Z
LAST-MODIFIED:20240423T161834Z
UID:10018665-1736668800-1736686800@wallonie.events
SUMMARY:marché de Aubel
DESCRIPTION:retrouvez le marché à Aubel le Dimanche et le mardi de 8h à 13h au millieu du village\, \nvous trouverez toutes sortes de produits allant de Fruits\, légumes\, charcuteries\, fromages\, pains\, poissons\, vêtements\, fleurs et plantes\,… rien ne manque en plus de nombreux commerces sont ouverts pour l’occasion. \nVous trouverez facilement un endroit pour vous garer \nTOUT SAVOIR 
URL:https://wallonie.events/activite/marche-de-aubel/2025-01-12/
LOCATION:Centre ville de Aubel\, centre ville de Aubel\, Aubel\, Région Wallonne\, 4880\, Belgique
CATEGORIES:Marchés
ATTACH;FMTTYPE=image/jpeg:https://wallonie.events/wp-content/uploads/2024/04/Marche-de-aubel.jpg
END:VEVENT
BEGIN:VEVENT
DTSTART;TZID=Europe/Brussels:20250107T080000
DTEND;TZID=Europe/Brussels:20250107T130000
DTSTAMP:20260423T105521
CREATED:20240423T161834Z
LAST-MODIFIED:20240423T161834Z
UID:10018664-1736236800-1736254800@wallonie.events
SUMMARY:marché de Aubel
DESCRIPTION:retrouvez le marché à Aubel le Dimanche et le mardi de 8h à 13h au millieu du village\, \nvous trouverez toutes sortes de produits allant de Fruits\, légumes\, charcuteries\, fromages\, pains\, poissons\, vêtements\, fleurs et plantes\,… rien ne manque en plus de nombreux commerces sont ouverts pour l’occasion. \nVous trouverez facilement un endroit pour vous garer \nTOUT SAVOIR 
URL:https://wallonie.events/activite/marche-de-aubel/2025-01-07/
LOCATION:Centre ville de Aubel\, centre ville de Aubel\, Aubel\, Région Wallonne\, 4880\, Belgique
CATEGORIES:Marchés
ATTACH;FMTTYPE=image/jpeg:https://wallonie.events/wp-content/uploads/2024/04/Marche-de-aubel.jpg
END:VEVENT
BEGIN:VEVENT
DTSTART;TZID=Europe/Brussels:20250105T080000
DTEND;TZID=Europe/Brussels:20250105T130000
DTSTAMP:20260423T105521
CREATED:20240423T161834Z
LAST-MODIFIED:20240423T161834Z
UID:10018663-1736064000-1736082000@wallonie.events
SUMMARY:marché de Aubel
DESCRIPTION:retrouvez le marché à Aubel le Dimanche et le mardi de 8h à 13h au millieu du village\, \nvous trouverez toutes sortes de produits allant de Fruits\, légumes\, charcuteries\, fromages\, pains\, poissons\, vêtements\, fleurs et plantes\,… rien ne manque en plus de nombreux commerces sont ouverts pour l’occasion. \nVous trouverez facilement un endroit pour vous garer \nTOUT SAVOIR 
URL:https://wallonie.events/activite/marche-de-aubel/2025-01-05/
LOCATION:Centre ville de Aubel\, centre ville de Aubel\, Aubel\, Région Wallonne\, 4880\, Belgique
CATEGORIES:Marchés
ATTACH;FMTTYPE=image/jpeg:https://wallonie.events/wp-content/uploads/2024/04/Marche-de-aubel.jpg
END:VEVENT
BEGIN:VEVENT
DTSTART;TZID=Europe/Brussels:20241231T080000
DTEND;TZID=Europe/Brussels:20241231T130000
DTSTAMP:20260423T105521
CREATED:20240423T161834Z
LAST-MODIFIED:20240423T161834Z
UID:10018662-1735632000-1735650000@wallonie.events
SUMMARY:marché de Aubel
DESCRIPTION:retrouvez le marché à Aubel le Dimanche et le mardi de 8h à 13h au millieu du village\, \nvous trouverez toutes sortes de produits allant de Fruits\, légumes\, charcuteries\, fromages\, pains\, poissons\, vêtements\, fleurs et plantes\,… rien ne manque en plus de nombreux commerces sont ouverts pour l’occasion. \nVous trouverez facilement un endroit pour vous garer \nTOUT SAVOIR 
URL:https://wallonie.events/activite/marche-de-aubel/2024-12-31/
LOCATION:Centre ville de Aubel\, centre ville de Aubel\, Aubel\, Région Wallonne\, 4880\, Belgique
CATEGORIES:Marchés
ATTACH;FMTTYPE=image/jpeg:https://wallonie.events/wp-content/uploads/2024/04/Marche-de-aubel.jpg
END:VEVENT
BEGIN:VEVENT
DTSTART;TZID=Europe/Brussels:20241229T080000
DTEND;TZID=Europe/Brussels:20241229T130000
DTSTAMP:20260423T105521
CREATED:20240423T161834Z
LAST-MODIFIED:20240423T161834Z
UID:10018661-1735459200-1735477200@wallonie.events
SUMMARY:marché de Aubel
DESCRIPTION:retrouvez le marché à Aubel le Dimanche et le mardi de 8h à 13h au millieu du village\, \nvous trouverez toutes sortes de produits allant de Fruits\, légumes\, charcuteries\, fromages\, pains\, poissons\, vêtements\, fleurs et plantes\,… rien ne manque en plus de nombreux commerces sont ouverts pour l’occasion. \nVous trouverez facilement un endroit pour vous garer \nTOUT SAVOIR 
URL:https://wallonie.events/activite/marche-de-aubel/2024-12-29/
LOCATION:Centre ville de Aubel\, centre ville de Aubel\, Aubel\, Région Wallonne\, 4880\, Belgique
CATEGORIES:Marchés
ATTACH;FMTTYPE=image/jpeg:https://wallonie.events/wp-content/uploads/2024/04/Marche-de-aubel.jpg
END:VEVENT
BEGIN:VEVENT
DTSTART;TZID=Europe/Brussels:20241224T080000
DTEND;TZID=Europe/Brussels:20241224T130000
DTSTAMP:20260423T105521
CREATED:20240423T161834Z
LAST-MODIFIED:20240423T161834Z
UID:10018660-1735027200-1735045200@wallonie.events
SUMMARY:marché de Aubel
DESCRIPTION:retrouvez le marché à Aubel le Dimanche et le mardi de 8h à 13h au millieu du village\, \nvous trouverez toutes sortes de produits allant de Fruits\, légumes\, charcuteries\, fromages\, pains\, poissons\, vêtements\, fleurs et plantes\,… rien ne manque en plus de nombreux commerces sont ouverts pour l’occasion. \nVous trouverez facilement un endroit pour vous garer \nTOUT SAVOIR 
URL:https://wallonie.events/activite/marche-de-aubel/2024-12-24/
LOCATION:Centre ville de Aubel\, centre ville de Aubel\, Aubel\, Région Wallonne\, 4880\, Belgique
CATEGORIES:Marchés
ATTACH;FMTTYPE=image/jpeg:https://wallonie.events/wp-content/uploads/2024/04/Marche-de-aubel.jpg
END:VEVENT
BEGIN:VEVENT
DTSTART;TZID=Europe/Brussels:20241222T080000
DTEND;TZID=Europe/Brussels:20241222T130000
DTSTAMP:20260423T105521
CREATED:20240423T161834Z
LAST-MODIFIED:20240423T161834Z
UID:10018659-1734854400-1734872400@wallonie.events
SUMMARY:marché de Aubel
DESCRIPTION:retrouvez le marché à Aubel le Dimanche et le mardi de 8h à 13h au millieu du village\, \nvous trouverez toutes sortes de produits allant de Fruits\, légumes\, charcuteries\, fromages\, pains\, poissons\, vêtements\, fleurs et plantes\,… rien ne manque en plus de nombreux commerces sont ouverts pour l’occasion. \nVous trouverez facilement un endroit pour vous garer \nTOUT SAVOIR 
URL:https://wallonie.events/activite/marche-de-aubel/2024-12-22/
LOCATION:Centre ville de Aubel\, centre ville de Aubel\, Aubel\, Région Wallonne\, 4880\, Belgique
CATEGORIES:Marchés
ATTACH;FMTTYPE=image/jpeg:https://wallonie.events/wp-content/uploads/2024/04/Marche-de-aubel.jpg
END:VEVENT
BEGIN:VEVENT
DTSTART;TZID=Europe/Brussels:20241217T080000
DTEND;TZID=Europe/Brussels:20241217T130000
DTSTAMP:20260423T105521
CREATED:20240423T161834Z
LAST-MODIFIED:20240423T161834Z
UID:10018658-1734422400-1734440400@wallonie.events
SUMMARY:marché de Aubel
DESCRIPTION:retrouvez le marché à Aubel le Dimanche et le mardi de 8h à 13h au millieu du village\, \nvous trouverez toutes sortes de produits allant de Fruits\, légumes\, charcuteries\, fromages\, pains\, poissons\, vêtements\, fleurs et plantes\,… rien ne manque en plus de nombreux commerces sont ouverts pour l’occasion. \nVous trouverez facilement un endroit pour vous garer \nTOUT SAVOIR 
URL:https://wallonie.events/activite/marche-de-aubel/2024-12-17/
LOCATION:Centre ville de Aubel\, centre ville de Aubel\, Aubel\, Région Wallonne\, 4880\, Belgique
CATEGORIES:Marchés
ATTACH;FMTTYPE=image/jpeg:https://wallonie.events/wp-content/uploads/2024/04/Marche-de-aubel.jpg
END:VEVENT
BEGIN:VEVENT
DTSTART;TZID=Europe/Brussels:20241215T080000
DTEND;TZID=Europe/Brussels:20241215T130000
DTSTAMP:20260423T105521
CREATED:20240423T161834Z
LAST-MODIFIED:20240423T161834Z
UID:10018657-1734249600-1734267600@wallonie.events
SUMMARY:marché de Aubel
DESCRIPTION:retrouvez le marché à Aubel le Dimanche et le mardi de 8h à 13h au millieu du village\, \nvous trouverez toutes sortes de produits allant de Fruits\, légumes\, charcuteries\, fromages\, pains\, poissons\, vêtements\, fleurs et plantes\,… rien ne manque en plus de nombreux commerces sont ouverts pour l’occasion. \nVous trouverez facilement un endroit pour vous garer \nTOUT SAVOIR 
URL:https://wallonie.events/activite/marche-de-aubel/2024-12-15/
LOCATION:Centre ville de Aubel\, centre ville de Aubel\, Aubel\, Région Wallonne\, 4880\, Belgique
CATEGORIES:Marchés
ATTACH;FMTTYPE=image/jpeg:https://wallonie.events/wp-content/uploads/2024/04/Marche-de-aubel.jpg
END:VEVENT
BEGIN:VEVENT
DTSTART;TZID=Europe/Brussels:20241210T080000
DTEND;TZID=Europe/Brussels:20241210T130000
DTSTAMP:20260423T105521
CREATED:20240423T161834Z
LAST-MODIFIED:20240423T161834Z
UID:10018656-1733817600-1733835600@wallonie.events
SUMMARY:marché de Aubel
DESCRIPTION:retrouvez le marché à Aubel le Dimanche et le mardi de 8h à 13h au millieu du village\, \nvous trouverez toutes sortes de produits allant de Fruits\, légumes\, charcuteries\, fromages\, pains\, poissons\, vêtements\, fleurs et plantes\,… rien ne manque en plus de nombreux commerces sont ouverts pour l’occasion. \nVous trouverez facilement un endroit pour vous garer \nTOUT SAVOIR 
URL:https://wallonie.events/activite/marche-de-aubel/2024-12-10/
LOCATION:Centre ville de Aubel\, centre ville de Aubel\, Aubel\, Région Wallonne\, 4880\, Belgique
CATEGORIES:Marchés
ATTACH;FMTTYPE=image/jpeg:https://wallonie.events/wp-content/uploads/2024/04/Marche-de-aubel.jpg
END:VEVENT
BEGIN:VEVENT
DTSTART;TZID=Europe/Brussels:20241208T080000
DTEND;TZID=Europe/Brussels:20241208T130000
DTSTAMP:20260423T105521
CREATED:20240423T161834Z
LAST-MODIFIED:20240423T161834Z
UID:10018655-1733644800-1733662800@wallonie.events
SUMMARY:marché de Aubel
DESCRIPTION:retrouvez le marché à Aubel le Dimanche et le mardi de 8h à 13h au millieu du village\, \nvous trouverez toutes sortes de produits allant de Fruits\, légumes\, charcuteries\, fromages\, pains\, poissons\, vêtements\, fleurs et plantes\,… rien ne manque en plus de nombreux commerces sont ouverts pour l’occasion. \nVous trouverez facilement un endroit pour vous garer \nTOUT SAVOIR 
URL:https://wallonie.events/activite/marche-de-aubel/2024-12-08/
LOCATION:Centre ville de Aubel\, centre ville de Aubel\, Aubel\, Région Wallonne\, 4880\, Belgique
CATEGORIES:Marchés
ATTACH;FMTTYPE=image/jpeg:https://wallonie.events/wp-content/uploads/2024/04/Marche-de-aubel.jpg
END:VEVENT
BEGIN:VEVENT
DTSTART;TZID=Europe/Brussels:20241203T080000
DTEND;TZID=Europe/Brussels:20241203T130000
DTSTAMP:20260423T105521
CREATED:20240423T161834Z
LAST-MODIFIED:20240423T161834Z
UID:10018654-1733212800-1733230800@wallonie.events
SUMMARY:marché de Aubel
DESCRIPTION:retrouvez le marché à Aubel le Dimanche et le mardi de 8h à 13h au millieu du village\, \nvous trouverez toutes sortes de produits allant de Fruits\, légumes\, charcuteries\, fromages\, pains\, poissons\, vêtements\, fleurs et plantes\,… rien ne manque en plus de nombreux commerces sont ouverts pour l’occasion. \nVous trouverez facilement un endroit pour vous garer \nTOUT SAVOIR 
URL:https://wallonie.events/activite/marche-de-aubel/2024-12-03/
LOCATION:Centre ville de Aubel\, centre ville de Aubel\, Aubel\, Région Wallonne\, 4880\, Belgique
CATEGORIES:Marchés
ATTACH;FMTTYPE=image/jpeg:https://wallonie.events/wp-content/uploads/2024/04/Marche-de-aubel.jpg
END:VEVENT
BEGIN:VEVENT
DTSTART;TZID=Europe/Brussels:20241201T080000
DTEND;TZID=Europe/Brussels:20241201T130000
DTSTAMP:20260423T105521
CREATED:20240423T161834Z
LAST-MODIFIED:20240423T161834Z
UID:10018653-1733040000-1733058000@wallonie.events
SUMMARY:marché de Aubel
DESCRIPTION:retrouvez le marché à Aubel le Dimanche et le mardi de 8h à 13h au millieu du village\, \nvous trouverez toutes sortes de produits allant de Fruits\, légumes\, charcuteries\, fromages\, pains\, poissons\, vêtements\, fleurs et plantes\,… rien ne manque en plus de nombreux commerces sont ouverts pour l’occasion. \nVous trouverez facilement un endroit pour vous garer \nTOUT SAVOIR 
URL:https://wallonie.events/activite/marche-de-aubel/2024-12-01/
LOCATION:Centre ville de Aubel\, centre ville de Aubel\, Aubel\, Région Wallonne\, 4880\, Belgique
CATEGORIES:Marchés
ATTACH;FMTTYPE=image/jpeg:https://wallonie.events/wp-content/uploads/2024/04/Marche-de-aubel.jpg
END:VEVENT
BEGIN:VEVENT
DTSTART;TZID=Europe/Brussels:20241126T080000
DTEND;TZID=Europe/Brussels:20241126T130000
DTSTAMP:20260423T105521
CREATED:20240423T161834Z
LAST-MODIFIED:20240423T161834Z
UID:10018652-1732608000-1732626000@wallonie.events
SUMMARY:marché de Aubel
DESCRIPTION:retrouvez le marché à Aubel le Dimanche et le mardi de 8h à 13h au millieu du village\, \nvous trouverez toutes sortes de produits allant de Fruits\, légumes\, charcuteries\, fromages\, pains\, poissons\, vêtements\, fleurs et plantes\,… rien ne manque en plus de nombreux commerces sont ouverts pour l’occasion. \nVous trouverez facilement un endroit pour vous garer \nTOUT SAVOIR 
URL:https://wallonie.events/activite/marche-de-aubel/2024-11-26/
LOCATION:Centre ville de Aubel\, centre ville de Aubel\, Aubel\, Région Wallonne\, 4880\, Belgique
CATEGORIES:Marchés
ATTACH;FMTTYPE=image/jpeg:https://wallonie.events/wp-content/uploads/2024/04/Marche-de-aubel.jpg
END:VEVENT
BEGIN:VEVENT
DTSTART;TZID=Europe/Brussels:20241124T080000
DTEND;TZID=Europe/Brussels:20241124T130000
DTSTAMP:20260423T105521
CREATED:20240423T161834Z
LAST-MODIFIED:20240423T161834Z
UID:10018651-1732435200-1732453200@wallonie.events
SUMMARY:marché de Aubel
DESCRIPTION:retrouvez le marché à Aubel le Dimanche et le mardi de 8h à 13h au millieu du village\, \nvous trouverez toutes sortes de produits allant de Fruits\, légumes\, charcuteries\, fromages\, pains\, poissons\, vêtements\, fleurs et plantes\,… rien ne manque en plus de nombreux commerces sont ouverts pour l’occasion. \nVous trouverez facilement un endroit pour vous garer \nTOUT SAVOIR 
URL:https://wallonie.events/activite/marche-de-aubel/2024-11-24/
LOCATION:Centre ville de Aubel\, centre ville de Aubel\, Aubel\, Région Wallonne\, 4880\, Belgique
CATEGORIES:Marchés
ATTACH;FMTTYPE=image/jpeg:https://wallonie.events/wp-content/uploads/2024/04/Marche-de-aubel.jpg
END:VEVENT
BEGIN:VEVENT
DTSTART;TZID=Europe/Brussels:20241119T080000
DTEND;TZID=Europe/Brussels:20241119T130000
DTSTAMP:20260423T105521
CREATED:20240423T161834Z
LAST-MODIFIED:20240423T161834Z
UID:10018650-1732003200-1732021200@wallonie.events
SUMMARY:marché de Aubel
DESCRIPTION:retrouvez le marché à Aubel le Dimanche et le mardi de 8h à 13h au millieu du village\, \nvous trouverez toutes sortes de produits allant de Fruits\, légumes\, charcuteries\, fromages\, pains\, poissons\, vêtements\, fleurs et plantes\,… rien ne manque en plus de nombreux commerces sont ouverts pour l’occasion. \nVous trouverez facilement un endroit pour vous garer \nTOUT SAVOIR 
URL:https://wallonie.events/activite/marche-de-aubel/2024-11-19/
LOCATION:Centre ville de Aubel\, centre ville de Aubel\, Aubel\, Région Wallonne\, 4880\, Belgique
CATEGORIES:Marchés
ATTACH;FMTTYPE=image/jpeg:https://wallonie.events/wp-content/uploads/2024/04/Marche-de-aubel.jpg
END:VEVENT
BEGIN:VEVENT
DTSTART;TZID=Europe/Brussels:20241117T080000
DTEND;TZID=Europe/Brussels:20241117T130000
DTSTAMP:20260423T105521
CREATED:20240423T161834Z
LAST-MODIFIED:20240423T161834Z
UID:10018649-1731830400-1731848400@wallonie.events
SUMMARY:marché de Aubel
DESCRIPTION:retrouvez le marché à Aubel le Dimanche et le mardi de 8h à 13h au millieu du village\, \nvous trouverez toutes sortes de produits allant de Fruits\, légumes\, charcuteries\, fromages\, pains\, poissons\, vêtements\, fleurs et plantes\,… rien ne manque en plus de nombreux commerces sont ouverts pour l’occasion. \nVous trouverez facilement un endroit pour vous garer \nTOUT SAVOIR 
URL:https://wallonie.events/activite/marche-de-aubel/2024-11-17/
LOCATION:Centre ville de Aubel\, centre ville de Aubel\, Aubel\, Région Wallonne\, 4880\, Belgique
CATEGORIES:Marchés
ATTACH;FMTTYPE=image/jpeg:https://wallonie.events/wp-content/uploads/2024/04/Marche-de-aubel.jpg
END:VEVENT
END:VCALENDAR