BEGIN:VCALENDAR
VERSION:2.0
PRODID:-//Wallonie activités &amp; Shopping - ECPv6.15.20//NONSGML v1.0//EN
CALSCALE:GREGORIAN
METHOD:PUBLISH
X-ORIGINAL-URL:https://wallonie.events
X-WR-CALDESC:Évènements pour Wallonie activités &amp; Shopping
REFRESH-INTERVAL;VALUE=DURATION:PT1H
X-Robots-Tag:noindex
X-PUBLISHED-TTL:PT1H
BEGIN:VTIMEZONE
TZID:Europe/Brussels
BEGIN:DAYLIGHT
TZOFFSETFROM:+0100
TZOFFSETTO:+0200
TZNAME:CEST
DTSTART:20240331T010000
END:DAYLIGHT
BEGIN:STANDARD
TZOFFSETFROM:+0200
TZOFFSETTO:+0100
TZNAME:CET
DTSTART:20241027T010000
END:STANDARD
BEGIN:DAYLIGHT
TZOFFSETFROM:+0100
TZOFFSETTO:+0200
TZNAME:CEST
DTSTART:20250330T010000
END:DAYLIGHT
BEGIN:STANDARD
TZOFFSETFROM:+0200
TZOFFSETTO:+0100
TZNAME:CET
DTSTART:20251026T010000
END:STANDARD
BEGIN:DAYLIGHT
TZOFFSETFROM:+0100
TZOFFSETTO:+0200
TZNAME:CEST
DTSTART:20260329T010000
END:DAYLIGHT
BEGIN:STANDARD
TZOFFSETFROM:+0200
TZOFFSETTO:+0100
TZNAME:CET
DTSTART:20261025T010000
END:STANDARD
END:VTIMEZONE
BEGIN:VEVENT
DTSTART;TZID=Europe/Brussels:20250715T080000
DTEND;TZID=Europe/Brussels:20250715T130000
DTSTAMP:20260421T161826
CREATED:20240423T161834Z
LAST-MODIFIED:20240423T161834Z
UID:10018718-1752566400-1752584400@wallonie.events
SUMMARY:marché de Aubel
DESCRIPTION:retrouvez le marché à Aubel le Dimanche et le mardi de 8h à 13h au millieu du village\, \nvous trouverez toutes sortes de produits allant de Fruits\, légumes\, charcuteries\, fromages\, pains\, poissons\, vêtements\, fleurs et plantes\,… rien ne manque en plus de nombreux commerces sont ouverts pour l’occasion. \nVous trouverez facilement un endroit pour vous garer \nTOUT SAVOIR 
URL:https://wallonie.events/activite/marche-de-aubel/2025-07-15/
LOCATION:Centre ville de Aubel\, centre ville de Aubel\, Aubel\, Région Wallonne\, 4880\, Belgique
CATEGORIES:Marchés
ATTACH;FMTTYPE=image/jpeg:https://wallonie.events/wp-content/uploads/2024/04/Marche-de-aubel.jpg
END:VEVENT
BEGIN:VEVENT
DTSTART;TZID=Europe/Brussels:20250713T080000
DTEND;TZID=Europe/Brussels:20250713T130000
DTSTAMP:20260421T161826
CREATED:20240423T161834Z
LAST-MODIFIED:20240423T161834Z
UID:10018717-1752393600-1752411600@wallonie.events
SUMMARY:marché de Aubel
DESCRIPTION:retrouvez le marché à Aubel le Dimanche et le mardi de 8h à 13h au millieu du village\, \nvous trouverez toutes sortes de produits allant de Fruits\, légumes\, charcuteries\, fromages\, pains\, poissons\, vêtements\, fleurs et plantes\,… rien ne manque en plus de nombreux commerces sont ouverts pour l’occasion. \nVous trouverez facilement un endroit pour vous garer \nTOUT SAVOIR 
URL:https://wallonie.events/activite/marche-de-aubel/2025-07-13/
LOCATION:Centre ville de Aubel\, centre ville de Aubel\, Aubel\, Région Wallonne\, 4880\, Belgique
CATEGORIES:Marchés
ATTACH;FMTTYPE=image/jpeg:https://wallonie.events/wp-content/uploads/2024/04/Marche-de-aubel.jpg
END:VEVENT
BEGIN:VEVENT
DTSTART;TZID=Europe/Brussels:20250708T080000
DTEND;TZID=Europe/Brussels:20250708T130000
DTSTAMP:20260421T161826
CREATED:20240423T161834Z
LAST-MODIFIED:20240423T161834Z
UID:10018716-1751961600-1751979600@wallonie.events
SUMMARY:marché de Aubel
DESCRIPTION:retrouvez le marché à Aubel le Dimanche et le mardi de 8h à 13h au millieu du village\, \nvous trouverez toutes sortes de produits allant de Fruits\, légumes\, charcuteries\, fromages\, pains\, poissons\, vêtements\, fleurs et plantes\,… rien ne manque en plus de nombreux commerces sont ouverts pour l’occasion. \nVous trouverez facilement un endroit pour vous garer \nTOUT SAVOIR 
URL:https://wallonie.events/activite/marche-de-aubel/2025-07-08/
LOCATION:Centre ville de Aubel\, centre ville de Aubel\, Aubel\, Région Wallonne\, 4880\, Belgique
CATEGORIES:Marchés
ATTACH;FMTTYPE=image/jpeg:https://wallonie.events/wp-content/uploads/2024/04/Marche-de-aubel.jpg
END:VEVENT
BEGIN:VEVENT
DTSTART;TZID=Europe/Brussels:20250706T080000
DTEND;TZID=Europe/Brussels:20250706T130000
DTSTAMP:20260421T161826
CREATED:20240423T161834Z
LAST-MODIFIED:20240423T161834Z
UID:10018715-1751788800-1751806800@wallonie.events
SUMMARY:marché de Aubel
DESCRIPTION:retrouvez le marché à Aubel le Dimanche et le mardi de 8h à 13h au millieu du village\, \nvous trouverez toutes sortes de produits allant de Fruits\, légumes\, charcuteries\, fromages\, pains\, poissons\, vêtements\, fleurs et plantes\,… rien ne manque en plus de nombreux commerces sont ouverts pour l’occasion. \nVous trouverez facilement un endroit pour vous garer \nTOUT SAVOIR 
URL:https://wallonie.events/activite/marche-de-aubel/2025-07-06/
LOCATION:Centre ville de Aubel\, centre ville de Aubel\, Aubel\, Région Wallonne\, 4880\, Belgique
CATEGORIES:Marchés
ATTACH;FMTTYPE=image/jpeg:https://wallonie.events/wp-content/uploads/2024/04/Marche-de-aubel.jpg
END:VEVENT
BEGIN:VEVENT
DTSTART;TZID=Europe/Brussels:20250701T080000
DTEND;TZID=Europe/Brussels:20250701T130000
DTSTAMP:20260421T161826
CREATED:20240423T161834Z
LAST-MODIFIED:20240423T161834Z
UID:10018714-1751356800-1751374800@wallonie.events
SUMMARY:marché de Aubel
DESCRIPTION:retrouvez le marché à Aubel le Dimanche et le mardi de 8h à 13h au millieu du village\, \nvous trouverez toutes sortes de produits allant de Fruits\, légumes\, charcuteries\, fromages\, pains\, poissons\, vêtements\, fleurs et plantes\,… rien ne manque en plus de nombreux commerces sont ouverts pour l’occasion. \nVous trouverez facilement un endroit pour vous garer \nTOUT SAVOIR 
URL:https://wallonie.events/activite/marche-de-aubel/2025-07-01/
LOCATION:Centre ville de Aubel\, centre ville de Aubel\, Aubel\, Région Wallonne\, 4880\, Belgique
CATEGORIES:Marchés
ATTACH;FMTTYPE=image/jpeg:https://wallonie.events/wp-content/uploads/2024/04/Marche-de-aubel.jpg
END:VEVENT
BEGIN:VEVENT
DTSTART;TZID=Europe/Brussels:20250629T080000
DTEND;TZID=Europe/Brussels:20250629T130000
DTSTAMP:20260421T161826
CREATED:20240423T161834Z
LAST-MODIFIED:20240423T161834Z
UID:10018713-1751184000-1751202000@wallonie.events
SUMMARY:marché de Aubel
DESCRIPTION:retrouvez le marché à Aubel le Dimanche et le mardi de 8h à 13h au millieu du village\, \nvous trouverez toutes sortes de produits allant de Fruits\, légumes\, charcuteries\, fromages\, pains\, poissons\, vêtements\, fleurs et plantes\,… rien ne manque en plus de nombreux commerces sont ouverts pour l’occasion. \nVous trouverez facilement un endroit pour vous garer \nTOUT SAVOIR 
URL:https://wallonie.events/activite/marche-de-aubel/2025-06-29/
LOCATION:Centre ville de Aubel\, centre ville de Aubel\, Aubel\, Région Wallonne\, 4880\, Belgique
CATEGORIES:Marchés
ATTACH;FMTTYPE=image/jpeg:https://wallonie.events/wp-content/uploads/2024/04/Marche-de-aubel.jpg
END:VEVENT
BEGIN:VEVENT
DTSTART;TZID=Europe/Brussels:20250624T080000
DTEND;TZID=Europe/Brussels:20250624T130000
DTSTAMP:20260421T161826
CREATED:20240423T161834Z
LAST-MODIFIED:20240423T161834Z
UID:10018712-1750752000-1750770000@wallonie.events
SUMMARY:marché de Aubel
DESCRIPTION:retrouvez le marché à Aubel le Dimanche et le mardi de 8h à 13h au millieu du village\, \nvous trouverez toutes sortes de produits allant de Fruits\, légumes\, charcuteries\, fromages\, pains\, poissons\, vêtements\, fleurs et plantes\,… rien ne manque en plus de nombreux commerces sont ouverts pour l’occasion. \nVous trouverez facilement un endroit pour vous garer \nTOUT SAVOIR 
URL:https://wallonie.events/activite/marche-de-aubel/2025-06-24/
LOCATION:Centre ville de Aubel\, centre ville de Aubel\, Aubel\, Région Wallonne\, 4880\, Belgique
CATEGORIES:Marchés
ATTACH;FMTTYPE=image/jpeg:https://wallonie.events/wp-content/uploads/2024/04/Marche-de-aubel.jpg
END:VEVENT
BEGIN:VEVENT
DTSTART;TZID=Europe/Brussels:20250622T080000
DTEND;TZID=Europe/Brussels:20250622T130000
DTSTAMP:20260421T161826
CREATED:20240423T161834Z
LAST-MODIFIED:20240423T161834Z
UID:10018711-1750579200-1750597200@wallonie.events
SUMMARY:marché de Aubel
DESCRIPTION:retrouvez le marché à Aubel le Dimanche et le mardi de 8h à 13h au millieu du village\, \nvous trouverez toutes sortes de produits allant de Fruits\, légumes\, charcuteries\, fromages\, pains\, poissons\, vêtements\, fleurs et plantes\,… rien ne manque en plus de nombreux commerces sont ouverts pour l’occasion. \nVous trouverez facilement un endroit pour vous garer \nTOUT SAVOIR 
URL:https://wallonie.events/activite/marche-de-aubel/2025-06-22/
LOCATION:Centre ville de Aubel\, centre ville de Aubel\, Aubel\, Région Wallonne\, 4880\, Belgique
CATEGORIES:Marchés
ATTACH;FMTTYPE=image/jpeg:https://wallonie.events/wp-content/uploads/2024/04/Marche-de-aubel.jpg
END:VEVENT
BEGIN:VEVENT
DTSTART;TZID=Europe/Brussels:20250617T080000
DTEND;TZID=Europe/Brussels:20250617T130000
DTSTAMP:20260421T161826
CREATED:20240423T161834Z
LAST-MODIFIED:20240423T161834Z
UID:10018710-1750147200-1750165200@wallonie.events
SUMMARY:marché de Aubel
DESCRIPTION:retrouvez le marché à Aubel le Dimanche et le mardi de 8h à 13h au millieu du village\, \nvous trouverez toutes sortes de produits allant de Fruits\, légumes\, charcuteries\, fromages\, pains\, poissons\, vêtements\, fleurs et plantes\,… rien ne manque en plus de nombreux commerces sont ouverts pour l’occasion. \nVous trouverez facilement un endroit pour vous garer \nTOUT SAVOIR 
URL:https://wallonie.events/activite/marche-de-aubel/2025-06-17/
LOCATION:Centre ville de Aubel\, centre ville de Aubel\, Aubel\, Région Wallonne\, 4880\, Belgique
CATEGORIES:Marchés
ATTACH;FMTTYPE=image/jpeg:https://wallonie.events/wp-content/uploads/2024/04/Marche-de-aubel.jpg
END:VEVENT
BEGIN:VEVENT
DTSTART;TZID=Europe/Brussels:20250615T080000
DTEND;TZID=Europe/Brussels:20250615T130000
DTSTAMP:20260421T161826
CREATED:20240423T161834Z
LAST-MODIFIED:20240423T161834Z
UID:10018709-1749974400-1749992400@wallonie.events
SUMMARY:marché de Aubel
DESCRIPTION:retrouvez le marché à Aubel le Dimanche et le mardi de 8h à 13h au millieu du village\, \nvous trouverez toutes sortes de produits allant de Fruits\, légumes\, charcuteries\, fromages\, pains\, poissons\, vêtements\, fleurs et plantes\,… rien ne manque en plus de nombreux commerces sont ouverts pour l’occasion. \nVous trouverez facilement un endroit pour vous garer \nTOUT SAVOIR 
URL:https://wallonie.events/activite/marche-de-aubel/2025-06-15/
LOCATION:Centre ville de Aubel\, centre ville de Aubel\, Aubel\, Région Wallonne\, 4880\, Belgique
CATEGORIES:Marchés
ATTACH;FMTTYPE=image/jpeg:https://wallonie.events/wp-content/uploads/2024/04/Marche-de-aubel.jpg
END:VEVENT
BEGIN:VEVENT
DTSTART;TZID=Europe/Brussels:20250610T080000
DTEND;TZID=Europe/Brussels:20250610T130000
DTSTAMP:20260421T161826
CREATED:20240423T161834Z
LAST-MODIFIED:20240423T161834Z
UID:10018708-1749542400-1749560400@wallonie.events
SUMMARY:marché de Aubel
DESCRIPTION:retrouvez le marché à Aubel le Dimanche et le mardi de 8h à 13h au millieu du village\, \nvous trouverez toutes sortes de produits allant de Fruits\, légumes\, charcuteries\, fromages\, pains\, poissons\, vêtements\, fleurs et plantes\,… rien ne manque en plus de nombreux commerces sont ouverts pour l’occasion. \nVous trouverez facilement un endroit pour vous garer \nTOUT SAVOIR 
URL:https://wallonie.events/activite/marche-de-aubel/2025-06-10/
LOCATION:Centre ville de Aubel\, centre ville de Aubel\, Aubel\, Région Wallonne\, 4880\, Belgique
CATEGORIES:Marchés
ATTACH;FMTTYPE=image/jpeg:https://wallonie.events/wp-content/uploads/2024/04/Marche-de-aubel.jpg
END:VEVENT
BEGIN:VEVENT
DTSTART;TZID=Europe/Brussels:20250608T080000
DTEND;TZID=Europe/Brussels:20250608T130000
DTSTAMP:20260421T161826
CREATED:20240423T161834Z
LAST-MODIFIED:20240423T161834Z
UID:10018707-1749369600-1749387600@wallonie.events
SUMMARY:marché de Aubel
DESCRIPTION:retrouvez le marché à Aubel le Dimanche et le mardi de 8h à 13h au millieu du village\, \nvous trouverez toutes sortes de produits allant de Fruits\, légumes\, charcuteries\, fromages\, pains\, poissons\, vêtements\, fleurs et plantes\,… rien ne manque en plus de nombreux commerces sont ouverts pour l’occasion. \nVous trouverez facilement un endroit pour vous garer \nTOUT SAVOIR 
URL:https://wallonie.events/activite/marche-de-aubel/2025-06-08/
LOCATION:Centre ville de Aubel\, centre ville de Aubel\, Aubel\, Région Wallonne\, 4880\, Belgique
CATEGORIES:Marchés
ATTACH;FMTTYPE=image/jpeg:https://wallonie.events/wp-content/uploads/2024/04/Marche-de-aubel.jpg
END:VEVENT
BEGIN:VEVENT
DTSTART;TZID=Europe/Brussels:20250603T080000
DTEND;TZID=Europe/Brussels:20250603T130000
DTSTAMP:20260421T161826
CREATED:20240423T161834Z
LAST-MODIFIED:20240423T161834Z
UID:10018706-1748937600-1748955600@wallonie.events
SUMMARY:marché de Aubel
DESCRIPTION:retrouvez le marché à Aubel le Dimanche et le mardi de 8h à 13h au millieu du village\, \nvous trouverez toutes sortes de produits allant de Fruits\, légumes\, charcuteries\, fromages\, pains\, poissons\, vêtements\, fleurs et plantes\,… rien ne manque en plus de nombreux commerces sont ouverts pour l’occasion. \nVous trouverez facilement un endroit pour vous garer \nTOUT SAVOIR 
URL:https://wallonie.events/activite/marche-de-aubel/2025-06-03/
LOCATION:Centre ville de Aubel\, centre ville de Aubel\, Aubel\, Région Wallonne\, 4880\, Belgique
CATEGORIES:Marchés
ATTACH;FMTTYPE=image/jpeg:https://wallonie.events/wp-content/uploads/2024/04/Marche-de-aubel.jpg
END:VEVENT
BEGIN:VEVENT
DTSTART;TZID=Europe/Brussels:20250601T080000
DTEND;TZID=Europe/Brussels:20250601T130000
DTSTAMP:20260421T161826
CREATED:20240423T161834Z
LAST-MODIFIED:20240423T161834Z
UID:10018705-1748764800-1748782800@wallonie.events
SUMMARY:marché de Aubel
DESCRIPTION:retrouvez le marché à Aubel le Dimanche et le mardi de 8h à 13h au millieu du village\, \nvous trouverez toutes sortes de produits allant de Fruits\, légumes\, charcuteries\, fromages\, pains\, poissons\, vêtements\, fleurs et plantes\,… rien ne manque en plus de nombreux commerces sont ouverts pour l’occasion. \nVous trouverez facilement un endroit pour vous garer \nTOUT SAVOIR 
URL:https://wallonie.events/activite/marche-de-aubel/2025-06-01/
LOCATION:Centre ville de Aubel\, centre ville de Aubel\, Aubel\, Région Wallonne\, 4880\, Belgique
CATEGORIES:Marchés
ATTACH;FMTTYPE=image/jpeg:https://wallonie.events/wp-content/uploads/2024/04/Marche-de-aubel.jpg
END:VEVENT
BEGIN:VEVENT
DTSTART;TZID=Europe/Brussels:20250527T080000
DTEND;TZID=Europe/Brussels:20250527T130000
DTSTAMP:20260421T161826
CREATED:20240423T161834Z
LAST-MODIFIED:20240423T161834Z
UID:10018704-1748332800-1748350800@wallonie.events
SUMMARY:marché de Aubel
DESCRIPTION:retrouvez le marché à Aubel le Dimanche et le mardi de 8h à 13h au millieu du village\, \nvous trouverez toutes sortes de produits allant de Fruits\, légumes\, charcuteries\, fromages\, pains\, poissons\, vêtements\, fleurs et plantes\,… rien ne manque en plus de nombreux commerces sont ouverts pour l’occasion. \nVous trouverez facilement un endroit pour vous garer \nTOUT SAVOIR 
URL:https://wallonie.events/activite/marche-de-aubel/2025-05-27/
LOCATION:Centre ville de Aubel\, centre ville de Aubel\, Aubel\, Région Wallonne\, 4880\, Belgique
CATEGORIES:Marchés
ATTACH;FMTTYPE=image/jpeg:https://wallonie.events/wp-content/uploads/2024/04/Marche-de-aubel.jpg
END:VEVENT
BEGIN:VEVENT
DTSTART;TZID=Europe/Brussels:20250525T080000
DTEND;TZID=Europe/Brussels:20250525T130000
DTSTAMP:20260421T161826
CREATED:20240423T161834Z
LAST-MODIFIED:20240423T161834Z
UID:10018703-1748160000-1748178000@wallonie.events
SUMMARY:marché de Aubel
DESCRIPTION:retrouvez le marché à Aubel le Dimanche et le mardi de 8h à 13h au millieu du village\, \nvous trouverez toutes sortes de produits allant de Fruits\, légumes\, charcuteries\, fromages\, pains\, poissons\, vêtements\, fleurs et plantes\,… rien ne manque en plus de nombreux commerces sont ouverts pour l’occasion. \nVous trouverez facilement un endroit pour vous garer \nTOUT SAVOIR 
URL:https://wallonie.events/activite/marche-de-aubel/2025-05-25/
LOCATION:Centre ville de Aubel\, centre ville de Aubel\, Aubel\, Région Wallonne\, 4880\, Belgique
CATEGORIES:Marchés
ATTACH;FMTTYPE=image/jpeg:https://wallonie.events/wp-content/uploads/2024/04/Marche-de-aubel.jpg
END:VEVENT
BEGIN:VEVENT
DTSTART;TZID=Europe/Brussels:20250520T080000
DTEND;TZID=Europe/Brussels:20250520T130000
DTSTAMP:20260421T161826
CREATED:20240423T161834Z
LAST-MODIFIED:20240423T161834Z
UID:10018702-1747728000-1747746000@wallonie.events
SUMMARY:marché de Aubel
DESCRIPTION:retrouvez le marché à Aubel le Dimanche et le mardi de 8h à 13h au millieu du village\, \nvous trouverez toutes sortes de produits allant de Fruits\, légumes\, charcuteries\, fromages\, pains\, poissons\, vêtements\, fleurs et plantes\,… rien ne manque en plus de nombreux commerces sont ouverts pour l’occasion. \nVous trouverez facilement un endroit pour vous garer \nTOUT SAVOIR 
URL:https://wallonie.events/activite/marche-de-aubel/2025-05-20/
LOCATION:Centre ville de Aubel\, centre ville de Aubel\, Aubel\, Région Wallonne\, 4880\, Belgique
CATEGORIES:Marchés
ATTACH;FMTTYPE=image/jpeg:https://wallonie.events/wp-content/uploads/2024/04/Marche-de-aubel.jpg
END:VEVENT
BEGIN:VEVENT
DTSTART;TZID=Europe/Brussels:20250518T080000
DTEND;TZID=Europe/Brussels:20250518T130000
DTSTAMP:20260421T161826
CREATED:20240423T161834Z
LAST-MODIFIED:20240423T161834Z
UID:10018701-1747555200-1747573200@wallonie.events
SUMMARY:marché de Aubel
DESCRIPTION:retrouvez le marché à Aubel le Dimanche et le mardi de 8h à 13h au millieu du village\, \nvous trouverez toutes sortes de produits allant de Fruits\, légumes\, charcuteries\, fromages\, pains\, poissons\, vêtements\, fleurs et plantes\,… rien ne manque en plus de nombreux commerces sont ouverts pour l’occasion. \nVous trouverez facilement un endroit pour vous garer \nTOUT SAVOIR 
URL:https://wallonie.events/activite/marche-de-aubel/2025-05-18/
LOCATION:Centre ville de Aubel\, centre ville de Aubel\, Aubel\, Région Wallonne\, 4880\, Belgique
CATEGORIES:Marchés
ATTACH;FMTTYPE=image/jpeg:https://wallonie.events/wp-content/uploads/2024/04/Marche-de-aubel.jpg
END:VEVENT
BEGIN:VEVENT
DTSTART;TZID=Europe/Brussels:20250513T080000
DTEND;TZID=Europe/Brussels:20250513T130000
DTSTAMP:20260421T161826
CREATED:20240423T161834Z
LAST-MODIFIED:20240423T161834Z
UID:10018700-1747123200-1747141200@wallonie.events
SUMMARY:marché de Aubel
DESCRIPTION:retrouvez le marché à Aubel le Dimanche et le mardi de 8h à 13h au millieu du village\, \nvous trouverez toutes sortes de produits allant de Fruits\, légumes\, charcuteries\, fromages\, pains\, poissons\, vêtements\, fleurs et plantes\,… rien ne manque en plus de nombreux commerces sont ouverts pour l’occasion. \nVous trouverez facilement un endroit pour vous garer \nTOUT SAVOIR 
URL:https://wallonie.events/activite/marche-de-aubel/2025-05-13/
LOCATION:Centre ville de Aubel\, centre ville de Aubel\, Aubel\, Région Wallonne\, 4880\, Belgique
CATEGORIES:Marchés
ATTACH;FMTTYPE=image/jpeg:https://wallonie.events/wp-content/uploads/2024/04/Marche-de-aubel.jpg
END:VEVENT
BEGIN:VEVENT
DTSTART;TZID=Europe/Brussels:20250511T080000
DTEND;TZID=Europe/Brussels:20250511T130000
DTSTAMP:20260421T161826
CREATED:20240423T161834Z
LAST-MODIFIED:20240423T161834Z
UID:10018699-1746950400-1746968400@wallonie.events
SUMMARY:marché de Aubel
DESCRIPTION:retrouvez le marché à Aubel le Dimanche et le mardi de 8h à 13h au millieu du village\, \nvous trouverez toutes sortes de produits allant de Fruits\, légumes\, charcuteries\, fromages\, pains\, poissons\, vêtements\, fleurs et plantes\,… rien ne manque en plus de nombreux commerces sont ouverts pour l’occasion. \nVous trouverez facilement un endroit pour vous garer \nTOUT SAVOIR 
URL:https://wallonie.events/activite/marche-de-aubel/2025-05-11/
LOCATION:Centre ville de Aubel\, centre ville de Aubel\, Aubel\, Région Wallonne\, 4880\, Belgique
CATEGORIES:Marchés
ATTACH;FMTTYPE=image/jpeg:https://wallonie.events/wp-content/uploads/2024/04/Marche-de-aubel.jpg
END:VEVENT
BEGIN:VEVENT
DTSTART;TZID=Europe/Brussels:20250506T080000
DTEND;TZID=Europe/Brussels:20250506T130000
DTSTAMP:20260421T161826
CREATED:20240423T161834Z
LAST-MODIFIED:20240423T161834Z
UID:10018698-1746518400-1746536400@wallonie.events
SUMMARY:marché de Aubel
DESCRIPTION:retrouvez le marché à Aubel le Dimanche et le mardi de 8h à 13h au millieu du village\, \nvous trouverez toutes sortes de produits allant de Fruits\, légumes\, charcuteries\, fromages\, pains\, poissons\, vêtements\, fleurs et plantes\,… rien ne manque en plus de nombreux commerces sont ouverts pour l’occasion. \nVous trouverez facilement un endroit pour vous garer \nTOUT SAVOIR 
URL:https://wallonie.events/activite/marche-de-aubel/2025-05-06/
LOCATION:Centre ville de Aubel\, centre ville de Aubel\, Aubel\, Région Wallonne\, 4880\, Belgique
CATEGORIES:Marchés
ATTACH;FMTTYPE=image/jpeg:https://wallonie.events/wp-content/uploads/2024/04/Marche-de-aubel.jpg
END:VEVENT
BEGIN:VEVENT
DTSTART;TZID=Europe/Brussels:20250504T080000
DTEND;TZID=Europe/Brussels:20250504T130000
DTSTAMP:20260421T161826
CREATED:20240423T161834Z
LAST-MODIFIED:20240423T161834Z
UID:10018697-1746345600-1746363600@wallonie.events
SUMMARY:marché de Aubel
DESCRIPTION:retrouvez le marché à Aubel le Dimanche et le mardi de 8h à 13h au millieu du village\, \nvous trouverez toutes sortes de produits allant de Fruits\, légumes\, charcuteries\, fromages\, pains\, poissons\, vêtements\, fleurs et plantes\,… rien ne manque en plus de nombreux commerces sont ouverts pour l’occasion. \nVous trouverez facilement un endroit pour vous garer \nTOUT SAVOIR 
URL:https://wallonie.events/activite/marche-de-aubel/2025-05-04/
LOCATION:Centre ville de Aubel\, centre ville de Aubel\, Aubel\, Région Wallonne\, 4880\, Belgique
CATEGORIES:Marchés
ATTACH;FMTTYPE=image/jpeg:https://wallonie.events/wp-content/uploads/2024/04/Marche-de-aubel.jpg
END:VEVENT
BEGIN:VEVENT
DTSTART;TZID=Europe/Brussels:20250429T080000
DTEND;TZID=Europe/Brussels:20250429T130000
DTSTAMP:20260421T161826
CREATED:20240423T161834Z
LAST-MODIFIED:20240423T161834Z
UID:10018696-1745913600-1745931600@wallonie.events
SUMMARY:marché de Aubel
DESCRIPTION:retrouvez le marché à Aubel le Dimanche et le mardi de 8h à 13h au millieu du village\, \nvous trouverez toutes sortes de produits allant de Fruits\, légumes\, charcuteries\, fromages\, pains\, poissons\, vêtements\, fleurs et plantes\,… rien ne manque en plus de nombreux commerces sont ouverts pour l’occasion. \nVous trouverez facilement un endroit pour vous garer \nTOUT SAVOIR 
URL:https://wallonie.events/activite/marche-de-aubel/2025-04-29/
LOCATION:Centre ville de Aubel\, centre ville de Aubel\, Aubel\, Région Wallonne\, 4880\, Belgique
CATEGORIES:Marchés
ATTACH;FMTTYPE=image/jpeg:https://wallonie.events/wp-content/uploads/2024/04/Marche-de-aubel.jpg
END:VEVENT
BEGIN:VEVENT
DTSTART;TZID=Europe/Brussels:20250427T080000
DTEND;TZID=Europe/Brussels:20250427T130000
DTSTAMP:20260421T161826
CREATED:20240423T161834Z
LAST-MODIFIED:20240423T161834Z
UID:10018695-1745740800-1745758800@wallonie.events
SUMMARY:marché de Aubel
DESCRIPTION:retrouvez le marché à Aubel le Dimanche et le mardi de 8h à 13h au millieu du village\, \nvous trouverez toutes sortes de produits allant de Fruits\, légumes\, charcuteries\, fromages\, pains\, poissons\, vêtements\, fleurs et plantes\,… rien ne manque en plus de nombreux commerces sont ouverts pour l’occasion. \nVous trouverez facilement un endroit pour vous garer \nTOUT SAVOIR 
URL:https://wallonie.events/activite/marche-de-aubel/2025-04-27/
LOCATION:Centre ville de Aubel\, centre ville de Aubel\, Aubel\, Région Wallonne\, 4880\, Belgique
CATEGORIES:Marchés
ATTACH;FMTTYPE=image/jpeg:https://wallonie.events/wp-content/uploads/2024/04/Marche-de-aubel.jpg
END:VEVENT
BEGIN:VEVENT
DTSTART;TZID=Europe/Brussels:20250422T080000
DTEND;TZID=Europe/Brussels:20250422T130000
DTSTAMP:20260421T161826
CREATED:20240423T161834Z
LAST-MODIFIED:20240423T161834Z
UID:10018694-1745308800-1745326800@wallonie.events
SUMMARY:marché de Aubel
DESCRIPTION:retrouvez le marché à Aubel le Dimanche et le mardi de 8h à 13h au millieu du village\, \nvous trouverez toutes sortes de produits allant de Fruits\, légumes\, charcuteries\, fromages\, pains\, poissons\, vêtements\, fleurs et plantes\,… rien ne manque en plus de nombreux commerces sont ouverts pour l’occasion. \nVous trouverez facilement un endroit pour vous garer \nTOUT SAVOIR 
URL:https://wallonie.events/activite/marche-de-aubel/2025-04-22/
LOCATION:Centre ville de Aubel\, centre ville de Aubel\, Aubel\, Région Wallonne\, 4880\, Belgique
CATEGORIES:Marchés
ATTACH;FMTTYPE=image/jpeg:https://wallonie.events/wp-content/uploads/2024/04/Marche-de-aubel.jpg
END:VEVENT
BEGIN:VEVENT
DTSTART;TZID=Europe/Brussels:20250420T080000
DTEND;TZID=Europe/Brussels:20250420T130000
DTSTAMP:20260421T161826
CREATED:20240423T161834Z
LAST-MODIFIED:20240423T161834Z
UID:10018693-1745136000-1745154000@wallonie.events
SUMMARY:marché de Aubel
DESCRIPTION:retrouvez le marché à Aubel le Dimanche et le mardi de 8h à 13h au millieu du village\, \nvous trouverez toutes sortes de produits allant de Fruits\, légumes\, charcuteries\, fromages\, pains\, poissons\, vêtements\, fleurs et plantes\,… rien ne manque en plus de nombreux commerces sont ouverts pour l’occasion. \nVous trouverez facilement un endroit pour vous garer \nTOUT SAVOIR 
URL:https://wallonie.events/activite/marche-de-aubel/2025-04-20/
LOCATION:Centre ville de Aubel\, centre ville de Aubel\, Aubel\, Région Wallonne\, 4880\, Belgique
CATEGORIES:Marchés
ATTACH;FMTTYPE=image/jpeg:https://wallonie.events/wp-content/uploads/2024/04/Marche-de-aubel.jpg
END:VEVENT
BEGIN:VEVENT
DTSTART;TZID=Europe/Brussels:20250415T080000
DTEND;TZID=Europe/Brussels:20250415T130000
DTSTAMP:20260421T161826
CREATED:20240423T161834Z
LAST-MODIFIED:20240423T161834Z
UID:10018692-1744704000-1744722000@wallonie.events
SUMMARY:marché de Aubel
DESCRIPTION:retrouvez le marché à Aubel le Dimanche et le mardi de 8h à 13h au millieu du village\, \nvous trouverez toutes sortes de produits allant de Fruits\, légumes\, charcuteries\, fromages\, pains\, poissons\, vêtements\, fleurs et plantes\,… rien ne manque en plus de nombreux commerces sont ouverts pour l’occasion. \nVous trouverez facilement un endroit pour vous garer \nTOUT SAVOIR 
URL:https://wallonie.events/activite/marche-de-aubel/2025-04-15/
LOCATION:Centre ville de Aubel\, centre ville de Aubel\, Aubel\, Région Wallonne\, 4880\, Belgique
CATEGORIES:Marchés
ATTACH;FMTTYPE=image/jpeg:https://wallonie.events/wp-content/uploads/2024/04/Marche-de-aubel.jpg
END:VEVENT
BEGIN:VEVENT
DTSTART;TZID=Europe/Brussels:20250413T080000
DTEND;TZID=Europe/Brussels:20250413T130000
DTSTAMP:20260421T161826
CREATED:20240423T161834Z
LAST-MODIFIED:20240423T161834Z
UID:10018691-1744531200-1744549200@wallonie.events
SUMMARY:marché de Aubel
DESCRIPTION:retrouvez le marché à Aubel le Dimanche et le mardi de 8h à 13h au millieu du village\, \nvous trouverez toutes sortes de produits allant de Fruits\, légumes\, charcuteries\, fromages\, pains\, poissons\, vêtements\, fleurs et plantes\,… rien ne manque en plus de nombreux commerces sont ouverts pour l’occasion. \nVous trouverez facilement un endroit pour vous garer \nTOUT SAVOIR 
URL:https://wallonie.events/activite/marche-de-aubel/2025-04-13/
LOCATION:Centre ville de Aubel\, centre ville de Aubel\, Aubel\, Région Wallonne\, 4880\, Belgique
CATEGORIES:Marchés
ATTACH;FMTTYPE=image/jpeg:https://wallonie.events/wp-content/uploads/2024/04/Marche-de-aubel.jpg
END:VEVENT
BEGIN:VEVENT
DTSTART;TZID=Europe/Brussels:20250408T080000
DTEND;TZID=Europe/Brussels:20250408T130000
DTSTAMP:20260421T161826
CREATED:20240423T161834Z
LAST-MODIFIED:20240423T161834Z
UID:10018690-1744099200-1744117200@wallonie.events
SUMMARY:marché de Aubel
DESCRIPTION:retrouvez le marché à Aubel le Dimanche et le mardi de 8h à 13h au millieu du village\, \nvous trouverez toutes sortes de produits allant de Fruits\, légumes\, charcuteries\, fromages\, pains\, poissons\, vêtements\, fleurs et plantes\,… rien ne manque en plus de nombreux commerces sont ouverts pour l’occasion. \nVous trouverez facilement un endroit pour vous garer \nTOUT SAVOIR 
URL:https://wallonie.events/activite/marche-de-aubel/2025-04-08/
LOCATION:Centre ville de Aubel\, centre ville de Aubel\, Aubel\, Région Wallonne\, 4880\, Belgique
CATEGORIES:Marchés
ATTACH;FMTTYPE=image/jpeg:https://wallonie.events/wp-content/uploads/2024/04/Marche-de-aubel.jpg
END:VEVENT
BEGIN:VEVENT
DTSTART;TZID=Europe/Brussels:20250406T080000
DTEND;TZID=Europe/Brussels:20250406T130000
DTSTAMP:20260421T161826
CREATED:20240423T161834Z
LAST-MODIFIED:20240423T161834Z
UID:10018689-1743926400-1743944400@wallonie.events
SUMMARY:marché de Aubel
DESCRIPTION:retrouvez le marché à Aubel le Dimanche et le mardi de 8h à 13h au millieu du village\, \nvous trouverez toutes sortes de produits allant de Fruits\, légumes\, charcuteries\, fromages\, pains\, poissons\, vêtements\, fleurs et plantes\,… rien ne manque en plus de nombreux commerces sont ouverts pour l’occasion. \nVous trouverez facilement un endroit pour vous garer \nTOUT SAVOIR 
URL:https://wallonie.events/activite/marche-de-aubel/2025-04-06/
LOCATION:Centre ville de Aubel\, centre ville de Aubel\, Aubel\, Région Wallonne\, 4880\, Belgique
CATEGORIES:Marchés
ATTACH;FMTTYPE=image/jpeg:https://wallonie.events/wp-content/uploads/2024/04/Marche-de-aubel.jpg
END:VEVENT
END:VCALENDAR