BEGIN:VCALENDAR
VERSION:2.0
PRODID:-//Wallonie activités &amp; Shopping - ECPv6.15.20//NONSGML v1.0//EN
CALSCALE:GREGORIAN
METHOD:PUBLISH
X-WR-CALNAME:Wallonie activités &amp; Shopping
X-ORIGINAL-URL:https://wallonie.events
X-WR-CALDESC:Évènements pour Wallonie activités &amp; Shopping
REFRESH-INTERVAL;VALUE=DURATION:PT1H
X-Robots-Tag:noindex
X-PUBLISHED-TTL:PT1H
BEGIN:VTIMEZONE
TZID:Europe/Brussels
BEGIN:DAYLIGHT
TZOFFSETFROM:+0100
TZOFFSETTO:+0200
TZNAME:CEST
DTSTART:20240331T010000
END:DAYLIGHT
BEGIN:STANDARD
TZOFFSETFROM:+0200
TZOFFSETTO:+0100
TZNAME:CET
DTSTART:20241027T010000
END:STANDARD
BEGIN:DAYLIGHT
TZOFFSETFROM:+0100
TZOFFSETTO:+0200
TZNAME:CEST
DTSTART:20250330T010000
END:DAYLIGHT
BEGIN:STANDARD
TZOFFSETFROM:+0200
TZOFFSETTO:+0100
TZNAME:CET
DTSTART:20251026T010000
END:STANDARD
BEGIN:DAYLIGHT
TZOFFSETFROM:+0100
TZOFFSETTO:+0200
TZNAME:CEST
DTSTART:20260329T010000
END:DAYLIGHT
BEGIN:STANDARD
TZOFFSETFROM:+0200
TZOFFSETTO:+0100
TZNAME:CET
DTSTART:20261025T010000
END:STANDARD
END:VTIMEZONE
BEGIN:VEVENT
DTSTART;TZID=Europe/Brussels:20250923T080000
DTEND;TZID=Europe/Brussels:20250923T130000
DTSTAMP:20260421T144223
CREATED:20240423T161834Z
LAST-MODIFIED:20240423T161834Z
UID:10018738-1758614400-1758632400@wallonie.events
SUMMARY:marché de Aubel
DESCRIPTION:retrouvez le marché à Aubel le Dimanche et le mardi de 8h à 13h au millieu du village\, \nvous trouverez toutes sortes de produits allant de Fruits\, légumes\, charcuteries\, fromages\, pains\, poissons\, vêtements\, fleurs et plantes\,… rien ne manque en plus de nombreux commerces sont ouverts pour l’occasion. \nVous trouverez facilement un endroit pour vous garer \nTOUT SAVOIR 
URL:https://wallonie.events/activite/marche-de-aubel/2025-09-23/
LOCATION:Centre ville de Aubel\, centre ville de Aubel\, Aubel\, Région Wallonne\, 4880\, Belgique
CATEGORIES:Marchés
ATTACH;FMTTYPE=image/jpeg:https://wallonie.events/wp-content/uploads/2024/04/Marche-de-aubel.jpg
END:VEVENT
BEGIN:VEVENT
DTSTART;TZID=Europe/Brussels:20250921T080000
DTEND;TZID=Europe/Brussels:20250921T130000
DTSTAMP:20260421T144223
CREATED:20240423T161834Z
LAST-MODIFIED:20240423T161834Z
UID:10018737-1758441600-1758459600@wallonie.events
SUMMARY:marché de Aubel
DESCRIPTION:retrouvez le marché à Aubel le Dimanche et le mardi de 8h à 13h au millieu du village\, \nvous trouverez toutes sortes de produits allant de Fruits\, légumes\, charcuteries\, fromages\, pains\, poissons\, vêtements\, fleurs et plantes\,… rien ne manque en plus de nombreux commerces sont ouverts pour l’occasion. \nVous trouverez facilement un endroit pour vous garer \nTOUT SAVOIR 
URL:https://wallonie.events/activite/marche-de-aubel/2025-09-21/
LOCATION:Centre ville de Aubel\, centre ville de Aubel\, Aubel\, Région Wallonne\, 4880\, Belgique
CATEGORIES:Marchés
ATTACH;FMTTYPE=image/jpeg:https://wallonie.events/wp-content/uploads/2024/04/Marche-de-aubel.jpg
END:VEVENT
BEGIN:VEVENT
DTSTART;TZID=Europe/Brussels:20250916T080000
DTEND;TZID=Europe/Brussels:20250916T130000
DTSTAMP:20260421T144223
CREATED:20240423T161834Z
LAST-MODIFIED:20240423T161834Z
UID:10018736-1758009600-1758027600@wallonie.events
SUMMARY:marché de Aubel
DESCRIPTION:retrouvez le marché à Aubel le Dimanche et le mardi de 8h à 13h au millieu du village\, \nvous trouverez toutes sortes de produits allant de Fruits\, légumes\, charcuteries\, fromages\, pains\, poissons\, vêtements\, fleurs et plantes\,… rien ne manque en plus de nombreux commerces sont ouverts pour l’occasion. \nVous trouverez facilement un endroit pour vous garer \nTOUT SAVOIR 
URL:https://wallonie.events/activite/marche-de-aubel/2025-09-16/
LOCATION:Centre ville de Aubel\, centre ville de Aubel\, Aubel\, Région Wallonne\, 4880\, Belgique
CATEGORIES:Marchés
ATTACH;FMTTYPE=image/jpeg:https://wallonie.events/wp-content/uploads/2024/04/Marche-de-aubel.jpg
END:VEVENT
BEGIN:VEVENT
DTSTART;TZID=Europe/Brussels:20250914T080000
DTEND;TZID=Europe/Brussels:20250914T130000
DTSTAMP:20260421T144223
CREATED:20240423T161834Z
LAST-MODIFIED:20240423T161834Z
UID:10018735-1757836800-1757854800@wallonie.events
SUMMARY:marché de Aubel
DESCRIPTION:retrouvez le marché à Aubel le Dimanche et le mardi de 8h à 13h au millieu du village\, \nvous trouverez toutes sortes de produits allant de Fruits\, légumes\, charcuteries\, fromages\, pains\, poissons\, vêtements\, fleurs et plantes\,… rien ne manque en plus de nombreux commerces sont ouverts pour l’occasion. \nVous trouverez facilement un endroit pour vous garer \nTOUT SAVOIR 
URL:https://wallonie.events/activite/marche-de-aubel/2025-09-14/
LOCATION:Centre ville de Aubel\, centre ville de Aubel\, Aubel\, Région Wallonne\, 4880\, Belgique
CATEGORIES:Marchés
ATTACH;FMTTYPE=image/jpeg:https://wallonie.events/wp-content/uploads/2024/04/Marche-de-aubel.jpg
END:VEVENT
BEGIN:VEVENT
DTSTART;TZID=Europe/Brussels:20250909T080000
DTEND;TZID=Europe/Brussels:20250909T130000
DTSTAMP:20260421T144223
CREATED:20240423T161834Z
LAST-MODIFIED:20240423T161834Z
UID:10018734-1757404800-1757422800@wallonie.events
SUMMARY:marché de Aubel
DESCRIPTION:retrouvez le marché à Aubel le Dimanche et le mardi de 8h à 13h au millieu du village\, \nvous trouverez toutes sortes de produits allant de Fruits\, légumes\, charcuteries\, fromages\, pains\, poissons\, vêtements\, fleurs et plantes\,… rien ne manque en plus de nombreux commerces sont ouverts pour l’occasion. \nVous trouverez facilement un endroit pour vous garer \nTOUT SAVOIR 
URL:https://wallonie.events/activite/marche-de-aubel/2025-09-09/
LOCATION:Centre ville de Aubel\, centre ville de Aubel\, Aubel\, Région Wallonne\, 4880\, Belgique
CATEGORIES:Marchés
ATTACH;FMTTYPE=image/jpeg:https://wallonie.events/wp-content/uploads/2024/04/Marche-de-aubel.jpg
END:VEVENT
BEGIN:VEVENT
DTSTART;TZID=Europe/Brussels:20250907T080000
DTEND;TZID=Europe/Brussels:20250907T130000
DTSTAMP:20260421T144223
CREATED:20240423T161834Z
LAST-MODIFIED:20240423T161834Z
UID:10018733-1757232000-1757250000@wallonie.events
SUMMARY:marché de Aubel
DESCRIPTION:retrouvez le marché à Aubel le Dimanche et le mardi de 8h à 13h au millieu du village\, \nvous trouverez toutes sortes de produits allant de Fruits\, légumes\, charcuteries\, fromages\, pains\, poissons\, vêtements\, fleurs et plantes\,… rien ne manque en plus de nombreux commerces sont ouverts pour l’occasion. \nVous trouverez facilement un endroit pour vous garer \nTOUT SAVOIR 
URL:https://wallonie.events/activite/marche-de-aubel/2025-09-07/
LOCATION:Centre ville de Aubel\, centre ville de Aubel\, Aubel\, Région Wallonne\, 4880\, Belgique
CATEGORIES:Marchés
ATTACH;FMTTYPE=image/jpeg:https://wallonie.events/wp-content/uploads/2024/04/Marche-de-aubel.jpg
END:VEVENT
BEGIN:VEVENT
DTSTART;TZID=Europe/Brussels:20250902T080000
DTEND;TZID=Europe/Brussels:20250902T130000
DTSTAMP:20260421T144223
CREATED:20240423T161834Z
LAST-MODIFIED:20240423T161834Z
UID:10018732-1756800000-1756818000@wallonie.events
SUMMARY:marché de Aubel
DESCRIPTION:retrouvez le marché à Aubel le Dimanche et le mardi de 8h à 13h au millieu du village\, \nvous trouverez toutes sortes de produits allant de Fruits\, légumes\, charcuteries\, fromages\, pains\, poissons\, vêtements\, fleurs et plantes\,… rien ne manque en plus de nombreux commerces sont ouverts pour l’occasion. \nVous trouverez facilement un endroit pour vous garer \nTOUT SAVOIR 
URL:https://wallonie.events/activite/marche-de-aubel/2025-09-02/
LOCATION:Centre ville de Aubel\, centre ville de Aubel\, Aubel\, Région Wallonne\, 4880\, Belgique
CATEGORIES:Marchés
ATTACH;FMTTYPE=image/jpeg:https://wallonie.events/wp-content/uploads/2024/04/Marche-de-aubel.jpg
END:VEVENT
BEGIN:VEVENT
DTSTART;TZID=Europe/Brussels:20250831T080000
DTEND;TZID=Europe/Brussels:20250831T130000
DTSTAMP:20260421T144223
CREATED:20240423T161834Z
LAST-MODIFIED:20240423T161834Z
UID:10018731-1756627200-1756645200@wallonie.events
SUMMARY:marché de Aubel
DESCRIPTION:retrouvez le marché à Aubel le Dimanche et le mardi de 8h à 13h au millieu du village\, \nvous trouverez toutes sortes de produits allant de Fruits\, légumes\, charcuteries\, fromages\, pains\, poissons\, vêtements\, fleurs et plantes\,… rien ne manque en plus de nombreux commerces sont ouverts pour l’occasion. \nVous trouverez facilement un endroit pour vous garer \nTOUT SAVOIR 
URL:https://wallonie.events/activite/marche-de-aubel/2025-08-31/
LOCATION:Centre ville de Aubel\, centre ville de Aubel\, Aubel\, Région Wallonne\, 4880\, Belgique
CATEGORIES:Marchés
ATTACH;FMTTYPE=image/jpeg:https://wallonie.events/wp-content/uploads/2024/04/Marche-de-aubel.jpg
END:VEVENT
BEGIN:VEVENT
DTSTART;TZID=Europe/Brussels:20250826T080000
DTEND;TZID=Europe/Brussels:20250826T130000
DTSTAMP:20260421T144223
CREATED:20240423T161834Z
LAST-MODIFIED:20240423T161834Z
UID:10018730-1756195200-1756213200@wallonie.events
SUMMARY:marché de Aubel
DESCRIPTION:retrouvez le marché à Aubel le Dimanche et le mardi de 8h à 13h au millieu du village\, \nvous trouverez toutes sortes de produits allant de Fruits\, légumes\, charcuteries\, fromages\, pains\, poissons\, vêtements\, fleurs et plantes\,… rien ne manque en plus de nombreux commerces sont ouverts pour l’occasion. \nVous trouverez facilement un endroit pour vous garer \nTOUT SAVOIR 
URL:https://wallonie.events/activite/marche-de-aubel/2025-08-26/
LOCATION:Centre ville de Aubel\, centre ville de Aubel\, Aubel\, Région Wallonne\, 4880\, Belgique
CATEGORIES:Marchés
ATTACH;FMTTYPE=image/jpeg:https://wallonie.events/wp-content/uploads/2024/04/Marche-de-aubel.jpg
END:VEVENT
BEGIN:VEVENT
DTSTART;TZID=Europe/Brussels:20250824T080000
DTEND;TZID=Europe/Brussels:20250824T130000
DTSTAMP:20260421T144223
CREATED:20240423T161834Z
LAST-MODIFIED:20240423T161834Z
UID:10018729-1756022400-1756040400@wallonie.events
SUMMARY:marché de Aubel
DESCRIPTION:retrouvez le marché à Aubel le Dimanche et le mardi de 8h à 13h au millieu du village\, \nvous trouverez toutes sortes de produits allant de Fruits\, légumes\, charcuteries\, fromages\, pains\, poissons\, vêtements\, fleurs et plantes\,… rien ne manque en plus de nombreux commerces sont ouverts pour l’occasion. \nVous trouverez facilement un endroit pour vous garer \nTOUT SAVOIR 
URL:https://wallonie.events/activite/marche-de-aubel/2025-08-24/
LOCATION:Centre ville de Aubel\, centre ville de Aubel\, Aubel\, Région Wallonne\, 4880\, Belgique
CATEGORIES:Marchés
ATTACH;FMTTYPE=image/jpeg:https://wallonie.events/wp-content/uploads/2024/04/Marche-de-aubel.jpg
END:VEVENT
BEGIN:VEVENT
DTSTART;TZID=Europe/Brussels:20250819T080000
DTEND;TZID=Europe/Brussels:20250819T130000
DTSTAMP:20260421T144223
CREATED:20240423T161834Z
LAST-MODIFIED:20240423T161834Z
UID:10018728-1755590400-1755608400@wallonie.events
SUMMARY:marché de Aubel
DESCRIPTION:retrouvez le marché à Aubel le Dimanche et le mardi de 8h à 13h au millieu du village\, \nvous trouverez toutes sortes de produits allant de Fruits\, légumes\, charcuteries\, fromages\, pains\, poissons\, vêtements\, fleurs et plantes\,… rien ne manque en plus de nombreux commerces sont ouverts pour l’occasion. \nVous trouverez facilement un endroit pour vous garer \nTOUT SAVOIR 
URL:https://wallonie.events/activite/marche-de-aubel/2025-08-19/
LOCATION:Centre ville de Aubel\, centre ville de Aubel\, Aubel\, Région Wallonne\, 4880\, Belgique
CATEGORIES:Marchés
ATTACH;FMTTYPE=image/jpeg:https://wallonie.events/wp-content/uploads/2024/04/Marche-de-aubel.jpg
END:VEVENT
BEGIN:VEVENT
DTSTART;TZID=Europe/Brussels:20250817T080000
DTEND;TZID=Europe/Brussels:20250817T130000
DTSTAMP:20260421T144223
CREATED:20240423T161834Z
LAST-MODIFIED:20240423T161834Z
UID:10018727-1755417600-1755435600@wallonie.events
SUMMARY:marché de Aubel
DESCRIPTION:retrouvez le marché à Aubel le Dimanche et le mardi de 8h à 13h au millieu du village\, \nvous trouverez toutes sortes de produits allant de Fruits\, légumes\, charcuteries\, fromages\, pains\, poissons\, vêtements\, fleurs et plantes\,… rien ne manque en plus de nombreux commerces sont ouverts pour l’occasion. \nVous trouverez facilement un endroit pour vous garer \nTOUT SAVOIR 
URL:https://wallonie.events/activite/marche-de-aubel/2025-08-17/
LOCATION:Centre ville de Aubel\, centre ville de Aubel\, Aubel\, Région Wallonne\, 4880\, Belgique
CATEGORIES:Marchés
ATTACH;FMTTYPE=image/jpeg:https://wallonie.events/wp-content/uploads/2024/04/Marche-de-aubel.jpg
END:VEVENT
BEGIN:VEVENT
DTSTART;TZID=Europe/Brussels:20250812T080000
DTEND;TZID=Europe/Brussels:20250812T130000
DTSTAMP:20260421T144223
CREATED:20240423T161834Z
LAST-MODIFIED:20240423T161834Z
UID:10018726-1754985600-1755003600@wallonie.events
SUMMARY:marché de Aubel
DESCRIPTION:retrouvez le marché à Aubel le Dimanche et le mardi de 8h à 13h au millieu du village\, \nvous trouverez toutes sortes de produits allant de Fruits\, légumes\, charcuteries\, fromages\, pains\, poissons\, vêtements\, fleurs et plantes\,… rien ne manque en plus de nombreux commerces sont ouverts pour l’occasion. \nVous trouverez facilement un endroit pour vous garer \nTOUT SAVOIR 
URL:https://wallonie.events/activite/marche-de-aubel/2025-08-12/
LOCATION:Centre ville de Aubel\, centre ville de Aubel\, Aubel\, Région Wallonne\, 4880\, Belgique
CATEGORIES:Marchés
ATTACH;FMTTYPE=image/jpeg:https://wallonie.events/wp-content/uploads/2024/04/Marche-de-aubel.jpg
END:VEVENT
BEGIN:VEVENT
DTSTART;TZID=Europe/Brussels:20250810T080000
DTEND;TZID=Europe/Brussels:20250810T130000
DTSTAMP:20260421T144223
CREATED:20240423T161834Z
LAST-MODIFIED:20240423T161834Z
UID:10018725-1754812800-1754830800@wallonie.events
SUMMARY:marché de Aubel
DESCRIPTION:retrouvez le marché à Aubel le Dimanche et le mardi de 8h à 13h au millieu du village\, \nvous trouverez toutes sortes de produits allant de Fruits\, légumes\, charcuteries\, fromages\, pains\, poissons\, vêtements\, fleurs et plantes\,… rien ne manque en plus de nombreux commerces sont ouverts pour l’occasion. \nVous trouverez facilement un endroit pour vous garer \nTOUT SAVOIR 
URL:https://wallonie.events/activite/marche-de-aubel/2025-08-10/
LOCATION:Centre ville de Aubel\, centre ville de Aubel\, Aubel\, Région Wallonne\, 4880\, Belgique
CATEGORIES:Marchés
ATTACH;FMTTYPE=image/jpeg:https://wallonie.events/wp-content/uploads/2024/04/Marche-de-aubel.jpg
END:VEVENT
BEGIN:VEVENT
DTSTART;TZID=Europe/Brussels:20250805T080000
DTEND;TZID=Europe/Brussels:20250805T130000
DTSTAMP:20260421T144223
CREATED:20240423T161834Z
LAST-MODIFIED:20240423T161834Z
UID:10018724-1754380800-1754398800@wallonie.events
SUMMARY:marché de Aubel
DESCRIPTION:retrouvez le marché à Aubel le Dimanche et le mardi de 8h à 13h au millieu du village\, \nvous trouverez toutes sortes de produits allant de Fruits\, légumes\, charcuteries\, fromages\, pains\, poissons\, vêtements\, fleurs et plantes\,… rien ne manque en plus de nombreux commerces sont ouverts pour l’occasion. \nVous trouverez facilement un endroit pour vous garer \nTOUT SAVOIR 
URL:https://wallonie.events/activite/marche-de-aubel/2025-08-05/
LOCATION:Centre ville de Aubel\, centre ville de Aubel\, Aubel\, Région Wallonne\, 4880\, Belgique
CATEGORIES:Marchés
ATTACH;FMTTYPE=image/jpeg:https://wallonie.events/wp-content/uploads/2024/04/Marche-de-aubel.jpg
END:VEVENT
BEGIN:VEVENT
DTSTART;TZID=Europe/Brussels:20250803T080000
DTEND;TZID=Europe/Brussels:20250803T130000
DTSTAMP:20260421T144223
CREATED:20240423T161834Z
LAST-MODIFIED:20240423T161834Z
UID:10018723-1754208000-1754226000@wallonie.events
SUMMARY:marché de Aubel
DESCRIPTION:retrouvez le marché à Aubel le Dimanche et le mardi de 8h à 13h au millieu du village\, \nvous trouverez toutes sortes de produits allant de Fruits\, légumes\, charcuteries\, fromages\, pains\, poissons\, vêtements\, fleurs et plantes\,… rien ne manque en plus de nombreux commerces sont ouverts pour l’occasion. \nVous trouverez facilement un endroit pour vous garer \nTOUT SAVOIR 
URL:https://wallonie.events/activite/marche-de-aubel/2025-08-03/
LOCATION:Centre ville de Aubel\, centre ville de Aubel\, Aubel\, Région Wallonne\, 4880\, Belgique
CATEGORIES:Marchés
ATTACH;FMTTYPE=image/jpeg:https://wallonie.events/wp-content/uploads/2024/04/Marche-de-aubel.jpg
END:VEVENT
BEGIN:VEVENT
DTSTART;TZID=Europe/Brussels:20250729T080000
DTEND;TZID=Europe/Brussels:20250729T130000
DTSTAMP:20260421T144223
CREATED:20240423T161834Z
LAST-MODIFIED:20240423T161834Z
UID:10018722-1753776000-1753794000@wallonie.events
SUMMARY:marché de Aubel
DESCRIPTION:retrouvez le marché à Aubel le Dimanche et le mardi de 8h à 13h au millieu du village\, \nvous trouverez toutes sortes de produits allant de Fruits\, légumes\, charcuteries\, fromages\, pains\, poissons\, vêtements\, fleurs et plantes\,… rien ne manque en plus de nombreux commerces sont ouverts pour l’occasion. \nVous trouverez facilement un endroit pour vous garer \nTOUT SAVOIR 
URL:https://wallonie.events/activite/marche-de-aubel/2025-07-29/
LOCATION:Centre ville de Aubel\, centre ville de Aubel\, Aubel\, Région Wallonne\, 4880\, Belgique
CATEGORIES:Marchés
ATTACH;FMTTYPE=image/jpeg:https://wallonie.events/wp-content/uploads/2024/04/Marche-de-aubel.jpg
END:VEVENT
BEGIN:VEVENT
DTSTART;TZID=Europe/Brussels:20250727T080000
DTEND;TZID=Europe/Brussels:20250727T130000
DTSTAMP:20260421T144223
CREATED:20240423T161834Z
LAST-MODIFIED:20240423T161834Z
UID:10018721-1753603200-1753621200@wallonie.events
SUMMARY:marché de Aubel
DESCRIPTION:retrouvez le marché à Aubel le Dimanche et le mardi de 8h à 13h au millieu du village\, \nvous trouverez toutes sortes de produits allant de Fruits\, légumes\, charcuteries\, fromages\, pains\, poissons\, vêtements\, fleurs et plantes\,… rien ne manque en plus de nombreux commerces sont ouverts pour l’occasion. \nVous trouverez facilement un endroit pour vous garer \nTOUT SAVOIR 
URL:https://wallonie.events/activite/marche-de-aubel/2025-07-27/
LOCATION:Centre ville de Aubel\, centre ville de Aubel\, Aubel\, Région Wallonne\, 4880\, Belgique
CATEGORIES:Marchés
ATTACH;FMTTYPE=image/jpeg:https://wallonie.events/wp-content/uploads/2024/04/Marche-de-aubel.jpg
END:VEVENT
BEGIN:VEVENT
DTSTART;TZID=Europe/Brussels:20250722T080000
DTEND;TZID=Europe/Brussels:20250722T130000
DTSTAMP:20260421T144223
CREATED:20240423T161834Z
LAST-MODIFIED:20240423T161834Z
UID:10018720-1753171200-1753189200@wallonie.events
SUMMARY:marché de Aubel
DESCRIPTION:retrouvez le marché à Aubel le Dimanche et le mardi de 8h à 13h au millieu du village\, \nvous trouverez toutes sortes de produits allant de Fruits\, légumes\, charcuteries\, fromages\, pains\, poissons\, vêtements\, fleurs et plantes\,… rien ne manque en plus de nombreux commerces sont ouverts pour l’occasion. \nVous trouverez facilement un endroit pour vous garer \nTOUT SAVOIR 
URL:https://wallonie.events/activite/marche-de-aubel/2025-07-22/
LOCATION:Centre ville de Aubel\, centre ville de Aubel\, Aubel\, Région Wallonne\, 4880\, Belgique
CATEGORIES:Marchés
ATTACH;FMTTYPE=image/jpeg:https://wallonie.events/wp-content/uploads/2024/04/Marche-de-aubel.jpg
END:VEVENT
BEGIN:VEVENT
DTSTART;TZID=Europe/Brussels:20250720T080000
DTEND;TZID=Europe/Brussels:20250720T130000
DTSTAMP:20260421T144223
CREATED:20240423T161834Z
LAST-MODIFIED:20240423T161834Z
UID:10018719-1752998400-1753016400@wallonie.events
SUMMARY:marché de Aubel
DESCRIPTION:retrouvez le marché à Aubel le Dimanche et le mardi de 8h à 13h au millieu du village\, \nvous trouverez toutes sortes de produits allant de Fruits\, légumes\, charcuteries\, fromages\, pains\, poissons\, vêtements\, fleurs et plantes\,… rien ne manque en plus de nombreux commerces sont ouverts pour l’occasion. \nVous trouverez facilement un endroit pour vous garer \nTOUT SAVOIR 
URL:https://wallonie.events/activite/marche-de-aubel/2025-07-20/
LOCATION:Centre ville de Aubel\, centre ville de Aubel\, Aubel\, Région Wallonne\, 4880\, Belgique
CATEGORIES:Marchés
ATTACH;FMTTYPE=image/jpeg:https://wallonie.events/wp-content/uploads/2024/04/Marche-de-aubel.jpg
END:VEVENT
BEGIN:VEVENT
DTSTART;TZID=Europe/Brussels:20250715T080000
DTEND;TZID=Europe/Brussels:20250715T130000
DTSTAMP:20260421T144223
CREATED:20240423T161834Z
LAST-MODIFIED:20240423T161834Z
UID:10018718-1752566400-1752584400@wallonie.events
SUMMARY:marché de Aubel
DESCRIPTION:retrouvez le marché à Aubel le Dimanche et le mardi de 8h à 13h au millieu du village\, \nvous trouverez toutes sortes de produits allant de Fruits\, légumes\, charcuteries\, fromages\, pains\, poissons\, vêtements\, fleurs et plantes\,… rien ne manque en plus de nombreux commerces sont ouverts pour l’occasion. \nVous trouverez facilement un endroit pour vous garer \nTOUT SAVOIR 
URL:https://wallonie.events/activite/marche-de-aubel/2025-07-15/
LOCATION:Centre ville de Aubel\, centre ville de Aubel\, Aubel\, Région Wallonne\, 4880\, Belgique
CATEGORIES:Marchés
ATTACH;FMTTYPE=image/jpeg:https://wallonie.events/wp-content/uploads/2024/04/Marche-de-aubel.jpg
END:VEVENT
BEGIN:VEVENT
DTSTART;TZID=Europe/Brussels:20250713T080000
DTEND;TZID=Europe/Brussels:20250713T130000
DTSTAMP:20260421T144223
CREATED:20240423T161834Z
LAST-MODIFIED:20240423T161834Z
UID:10018717-1752393600-1752411600@wallonie.events
SUMMARY:marché de Aubel
DESCRIPTION:retrouvez le marché à Aubel le Dimanche et le mardi de 8h à 13h au millieu du village\, \nvous trouverez toutes sortes de produits allant de Fruits\, légumes\, charcuteries\, fromages\, pains\, poissons\, vêtements\, fleurs et plantes\,… rien ne manque en plus de nombreux commerces sont ouverts pour l’occasion. \nVous trouverez facilement un endroit pour vous garer \nTOUT SAVOIR 
URL:https://wallonie.events/activite/marche-de-aubel/2025-07-13/
LOCATION:Centre ville de Aubel\, centre ville de Aubel\, Aubel\, Région Wallonne\, 4880\, Belgique
CATEGORIES:Marchés
ATTACH;FMTTYPE=image/jpeg:https://wallonie.events/wp-content/uploads/2024/04/Marche-de-aubel.jpg
END:VEVENT
BEGIN:VEVENT
DTSTART;TZID=Europe/Brussels:20250708T080000
DTEND;TZID=Europe/Brussels:20250708T130000
DTSTAMP:20260421T144223
CREATED:20240423T161834Z
LAST-MODIFIED:20240423T161834Z
UID:10018716-1751961600-1751979600@wallonie.events
SUMMARY:marché de Aubel
DESCRIPTION:retrouvez le marché à Aubel le Dimanche et le mardi de 8h à 13h au millieu du village\, \nvous trouverez toutes sortes de produits allant de Fruits\, légumes\, charcuteries\, fromages\, pains\, poissons\, vêtements\, fleurs et plantes\,… rien ne manque en plus de nombreux commerces sont ouverts pour l’occasion. \nVous trouverez facilement un endroit pour vous garer \nTOUT SAVOIR 
URL:https://wallonie.events/activite/marche-de-aubel/2025-07-08/
LOCATION:Centre ville de Aubel\, centre ville de Aubel\, Aubel\, Région Wallonne\, 4880\, Belgique
CATEGORIES:Marchés
ATTACH;FMTTYPE=image/jpeg:https://wallonie.events/wp-content/uploads/2024/04/Marche-de-aubel.jpg
END:VEVENT
BEGIN:VEVENT
DTSTART;TZID=Europe/Brussels:20250706T080000
DTEND;TZID=Europe/Brussels:20250706T130000
DTSTAMP:20260421T144223
CREATED:20240423T161834Z
LAST-MODIFIED:20240423T161834Z
UID:10018715-1751788800-1751806800@wallonie.events
SUMMARY:marché de Aubel
DESCRIPTION:retrouvez le marché à Aubel le Dimanche et le mardi de 8h à 13h au millieu du village\, \nvous trouverez toutes sortes de produits allant de Fruits\, légumes\, charcuteries\, fromages\, pains\, poissons\, vêtements\, fleurs et plantes\,… rien ne manque en plus de nombreux commerces sont ouverts pour l’occasion. \nVous trouverez facilement un endroit pour vous garer \nTOUT SAVOIR 
URL:https://wallonie.events/activite/marche-de-aubel/2025-07-06/
LOCATION:Centre ville de Aubel\, centre ville de Aubel\, Aubel\, Région Wallonne\, 4880\, Belgique
CATEGORIES:Marchés
ATTACH;FMTTYPE=image/jpeg:https://wallonie.events/wp-content/uploads/2024/04/Marche-de-aubel.jpg
END:VEVENT
BEGIN:VEVENT
DTSTART;TZID=Europe/Brussels:20250701T080000
DTEND;TZID=Europe/Brussels:20250701T130000
DTSTAMP:20260421T144223
CREATED:20240423T161834Z
LAST-MODIFIED:20240423T161834Z
UID:10018714-1751356800-1751374800@wallonie.events
SUMMARY:marché de Aubel
DESCRIPTION:retrouvez le marché à Aubel le Dimanche et le mardi de 8h à 13h au millieu du village\, \nvous trouverez toutes sortes de produits allant de Fruits\, légumes\, charcuteries\, fromages\, pains\, poissons\, vêtements\, fleurs et plantes\,… rien ne manque en plus de nombreux commerces sont ouverts pour l’occasion. \nVous trouverez facilement un endroit pour vous garer \nTOUT SAVOIR 
URL:https://wallonie.events/activite/marche-de-aubel/2025-07-01/
LOCATION:Centre ville de Aubel\, centre ville de Aubel\, Aubel\, Région Wallonne\, 4880\, Belgique
CATEGORIES:Marchés
ATTACH;FMTTYPE=image/jpeg:https://wallonie.events/wp-content/uploads/2024/04/Marche-de-aubel.jpg
END:VEVENT
BEGIN:VEVENT
DTSTART;TZID=Europe/Brussels:20250629T080000
DTEND;TZID=Europe/Brussels:20250629T130000
DTSTAMP:20260421T144223
CREATED:20240423T161834Z
LAST-MODIFIED:20240423T161834Z
UID:10018713-1751184000-1751202000@wallonie.events
SUMMARY:marché de Aubel
DESCRIPTION:retrouvez le marché à Aubel le Dimanche et le mardi de 8h à 13h au millieu du village\, \nvous trouverez toutes sortes de produits allant de Fruits\, légumes\, charcuteries\, fromages\, pains\, poissons\, vêtements\, fleurs et plantes\,… rien ne manque en plus de nombreux commerces sont ouverts pour l’occasion. \nVous trouverez facilement un endroit pour vous garer \nTOUT SAVOIR 
URL:https://wallonie.events/activite/marche-de-aubel/2025-06-29/
LOCATION:Centre ville de Aubel\, centre ville de Aubel\, Aubel\, Région Wallonne\, 4880\, Belgique
CATEGORIES:Marchés
ATTACH;FMTTYPE=image/jpeg:https://wallonie.events/wp-content/uploads/2024/04/Marche-de-aubel.jpg
END:VEVENT
BEGIN:VEVENT
DTSTART;TZID=Europe/Brussels:20250624T080000
DTEND;TZID=Europe/Brussels:20250624T130000
DTSTAMP:20260421T144223
CREATED:20240423T161834Z
LAST-MODIFIED:20240423T161834Z
UID:10018712-1750752000-1750770000@wallonie.events
SUMMARY:marché de Aubel
DESCRIPTION:retrouvez le marché à Aubel le Dimanche et le mardi de 8h à 13h au millieu du village\, \nvous trouverez toutes sortes de produits allant de Fruits\, légumes\, charcuteries\, fromages\, pains\, poissons\, vêtements\, fleurs et plantes\,… rien ne manque en plus de nombreux commerces sont ouverts pour l’occasion. \nVous trouverez facilement un endroit pour vous garer \nTOUT SAVOIR 
URL:https://wallonie.events/activite/marche-de-aubel/2025-06-24/
LOCATION:Centre ville de Aubel\, centre ville de Aubel\, Aubel\, Région Wallonne\, 4880\, Belgique
CATEGORIES:Marchés
ATTACH;FMTTYPE=image/jpeg:https://wallonie.events/wp-content/uploads/2024/04/Marche-de-aubel.jpg
END:VEVENT
BEGIN:VEVENT
DTSTART;TZID=Europe/Brussels:20250622T080000
DTEND;TZID=Europe/Brussels:20250622T130000
DTSTAMP:20260421T144223
CREATED:20240423T161834Z
LAST-MODIFIED:20240423T161834Z
UID:10018711-1750579200-1750597200@wallonie.events
SUMMARY:marché de Aubel
DESCRIPTION:retrouvez le marché à Aubel le Dimanche et le mardi de 8h à 13h au millieu du village\, \nvous trouverez toutes sortes de produits allant de Fruits\, légumes\, charcuteries\, fromages\, pains\, poissons\, vêtements\, fleurs et plantes\,… rien ne manque en plus de nombreux commerces sont ouverts pour l’occasion. \nVous trouverez facilement un endroit pour vous garer \nTOUT SAVOIR 
URL:https://wallonie.events/activite/marche-de-aubel/2025-06-22/
LOCATION:Centre ville de Aubel\, centre ville de Aubel\, Aubel\, Région Wallonne\, 4880\, Belgique
CATEGORIES:Marchés
ATTACH;FMTTYPE=image/jpeg:https://wallonie.events/wp-content/uploads/2024/04/Marche-de-aubel.jpg
END:VEVENT
BEGIN:VEVENT
DTSTART;TZID=Europe/Brussels:20250617T080000
DTEND;TZID=Europe/Brussels:20250617T130000
DTSTAMP:20260421T144223
CREATED:20240423T161834Z
LAST-MODIFIED:20240423T161834Z
UID:10018710-1750147200-1750165200@wallonie.events
SUMMARY:marché de Aubel
DESCRIPTION:retrouvez le marché à Aubel le Dimanche et le mardi de 8h à 13h au millieu du village\, \nvous trouverez toutes sortes de produits allant de Fruits\, légumes\, charcuteries\, fromages\, pains\, poissons\, vêtements\, fleurs et plantes\,… rien ne manque en plus de nombreux commerces sont ouverts pour l’occasion. \nVous trouverez facilement un endroit pour vous garer \nTOUT SAVOIR 
URL:https://wallonie.events/activite/marche-de-aubel/2025-06-17/
LOCATION:Centre ville de Aubel\, centre ville de Aubel\, Aubel\, Région Wallonne\, 4880\, Belgique
CATEGORIES:Marchés
ATTACH;FMTTYPE=image/jpeg:https://wallonie.events/wp-content/uploads/2024/04/Marche-de-aubel.jpg
END:VEVENT
BEGIN:VEVENT
DTSTART;TZID=Europe/Brussels:20250615T080000
DTEND;TZID=Europe/Brussels:20250615T130000
DTSTAMP:20260421T144223
CREATED:20240423T161834Z
LAST-MODIFIED:20240423T161834Z
UID:10018709-1749974400-1749992400@wallonie.events
SUMMARY:marché de Aubel
DESCRIPTION:retrouvez le marché à Aubel le Dimanche et le mardi de 8h à 13h au millieu du village\, \nvous trouverez toutes sortes de produits allant de Fruits\, légumes\, charcuteries\, fromages\, pains\, poissons\, vêtements\, fleurs et plantes\,… rien ne manque en plus de nombreux commerces sont ouverts pour l’occasion. \nVous trouverez facilement un endroit pour vous garer \nTOUT SAVOIR 
URL:https://wallonie.events/activite/marche-de-aubel/2025-06-15/
LOCATION:Centre ville de Aubel\, centre ville de Aubel\, Aubel\, Région Wallonne\, 4880\, Belgique
CATEGORIES:Marchés
ATTACH;FMTTYPE=image/jpeg:https://wallonie.events/wp-content/uploads/2024/04/Marche-de-aubel.jpg
END:VEVENT
END:VCALENDAR