BEGIN:VCALENDAR
VERSION:2.0
PRODID:-//Wallonie activités &amp; Shopping - ECPv6.15.20//NONSGML v1.0//EN
CALSCALE:GREGORIAN
METHOD:PUBLISH
X-ORIGINAL-URL:https://wallonie.events
X-WR-CALDESC:Évènements pour Wallonie activités &amp; Shopping
REFRESH-INTERVAL;VALUE=DURATION:PT1H
X-Robots-Tag:noindex
X-PUBLISHED-TTL:PT1H
BEGIN:VTIMEZONE
TZID:Europe/Brussels
BEGIN:DAYLIGHT
TZOFFSETFROM:+0100
TZOFFSETTO:+0200
TZNAME:CEST
DTSTART:20240331T010000
END:DAYLIGHT
BEGIN:STANDARD
TZOFFSETFROM:+0200
TZOFFSETTO:+0100
TZNAME:CET
DTSTART:20241027T010000
END:STANDARD
BEGIN:DAYLIGHT
TZOFFSETFROM:+0100
TZOFFSETTO:+0200
TZNAME:CEST
DTSTART:20250330T010000
END:DAYLIGHT
BEGIN:STANDARD
TZOFFSETFROM:+0200
TZOFFSETTO:+0100
TZNAME:CET
DTSTART:20251026T010000
END:STANDARD
BEGIN:DAYLIGHT
TZOFFSETFROM:+0100
TZOFFSETTO:+0200
TZNAME:CEST
DTSTART:20260329T010000
END:DAYLIGHT
BEGIN:STANDARD
TZOFFSETFROM:+0200
TZOFFSETTO:+0100
TZNAME:CET
DTSTART:20261025T010000
END:STANDARD
BEGIN:DAYLIGHT
TZOFFSETFROM:+0100
TZOFFSETTO:+0200
TZNAME:CEST
DTSTART:20270328T010000
END:DAYLIGHT
BEGIN:STANDARD
TZOFFSETFROM:+0200
TZOFFSETTO:+0100
TZNAME:CET
DTSTART:20271031T010000
END:STANDARD
END:VTIMEZONE
BEGIN:VEVENT
DTSTART;TZID=Europe/Brussels:20260208T080000
DTEND;TZID=Europe/Brussels:20260208T130000
DTSTAMP:20260421T113941
CREATED:20240423T161834Z
LAST-MODIFIED:20240423T161834Z
UID:10018777-1770537600-1770555600@wallonie.events
SUMMARY:marché de Aubel
DESCRIPTION:retrouvez le marché à Aubel le Dimanche et le mardi de 8h à 13h au millieu du village\, \nvous trouverez toutes sortes de produits allant de Fruits\, légumes\, charcuteries\, fromages\, pains\, poissons\, vêtements\, fleurs et plantes\,… rien ne manque en plus de nombreux commerces sont ouverts pour l’occasion. \nVous trouverez facilement un endroit pour vous garer \nTOUT SAVOIR 
URL:https://wallonie.events/activite/marche-de-aubel/2026-02-08/
LOCATION:Centre ville de Aubel\, centre ville de Aubel\, Aubel\, Région Wallonne\, 4880\, Belgique
CATEGORIES:Marchés
ATTACH;FMTTYPE=image/jpeg:https://wallonie.events/wp-content/uploads/2024/04/Marche-de-aubel.jpg
END:VEVENT
BEGIN:VEVENT
DTSTART;TZID=Europe/Brussels:20260203T080000
DTEND;TZID=Europe/Brussels:20260203T130000
DTSTAMP:20260421T113941
CREATED:20240423T161834Z
LAST-MODIFIED:20240423T161834Z
UID:10018776-1770105600-1770123600@wallonie.events
SUMMARY:marché de Aubel
DESCRIPTION:retrouvez le marché à Aubel le Dimanche et le mardi de 8h à 13h au millieu du village\, \nvous trouverez toutes sortes de produits allant de Fruits\, légumes\, charcuteries\, fromages\, pains\, poissons\, vêtements\, fleurs et plantes\,… rien ne manque en plus de nombreux commerces sont ouverts pour l’occasion. \nVous trouverez facilement un endroit pour vous garer \nTOUT SAVOIR 
URL:https://wallonie.events/activite/marche-de-aubel/2026-02-03/
LOCATION:Centre ville de Aubel\, centre ville de Aubel\, Aubel\, Région Wallonne\, 4880\, Belgique
CATEGORIES:Marchés
ATTACH;FMTTYPE=image/jpeg:https://wallonie.events/wp-content/uploads/2024/04/Marche-de-aubel.jpg
END:VEVENT
BEGIN:VEVENT
DTSTART;TZID=Europe/Brussels:20260201T080000
DTEND;TZID=Europe/Brussels:20260201T130000
DTSTAMP:20260421T113941
CREATED:20240423T161834Z
LAST-MODIFIED:20240423T161834Z
UID:10018775-1769932800-1769950800@wallonie.events
SUMMARY:marché de Aubel
DESCRIPTION:retrouvez le marché à Aubel le Dimanche et le mardi de 8h à 13h au millieu du village\, \nvous trouverez toutes sortes de produits allant de Fruits\, légumes\, charcuteries\, fromages\, pains\, poissons\, vêtements\, fleurs et plantes\,… rien ne manque en plus de nombreux commerces sont ouverts pour l’occasion. \nVous trouverez facilement un endroit pour vous garer \nTOUT SAVOIR 
URL:https://wallonie.events/activite/marche-de-aubel/2026-02-01/
LOCATION:Centre ville de Aubel\, centre ville de Aubel\, Aubel\, Région Wallonne\, 4880\, Belgique
CATEGORIES:Marchés
ATTACH;FMTTYPE=image/jpeg:https://wallonie.events/wp-content/uploads/2024/04/Marche-de-aubel.jpg
END:VEVENT
BEGIN:VEVENT
DTSTART;TZID=Europe/Brussels:20260127T080000
DTEND;TZID=Europe/Brussels:20260127T130000
DTSTAMP:20260421T113941
CREATED:20240423T161834Z
LAST-MODIFIED:20240423T161834Z
UID:10018774-1769500800-1769518800@wallonie.events
SUMMARY:marché de Aubel
DESCRIPTION:retrouvez le marché à Aubel le Dimanche et le mardi de 8h à 13h au millieu du village\, \nvous trouverez toutes sortes de produits allant de Fruits\, légumes\, charcuteries\, fromages\, pains\, poissons\, vêtements\, fleurs et plantes\,… rien ne manque en plus de nombreux commerces sont ouverts pour l’occasion. \nVous trouverez facilement un endroit pour vous garer \nTOUT SAVOIR 
URL:https://wallonie.events/activite/marche-de-aubel/2026-01-27/
LOCATION:Centre ville de Aubel\, centre ville de Aubel\, Aubel\, Région Wallonne\, 4880\, Belgique
CATEGORIES:Marchés
ATTACH;FMTTYPE=image/jpeg:https://wallonie.events/wp-content/uploads/2024/04/Marche-de-aubel.jpg
END:VEVENT
BEGIN:VEVENT
DTSTART;TZID=Europe/Brussels:20260125T080000
DTEND;TZID=Europe/Brussels:20260125T130000
DTSTAMP:20260421T113941
CREATED:20240423T161834Z
LAST-MODIFIED:20240423T161834Z
UID:10018773-1769328000-1769346000@wallonie.events
SUMMARY:marché de Aubel
DESCRIPTION:retrouvez le marché à Aubel le Dimanche et le mardi de 8h à 13h au millieu du village\, \nvous trouverez toutes sortes de produits allant de Fruits\, légumes\, charcuteries\, fromages\, pains\, poissons\, vêtements\, fleurs et plantes\,… rien ne manque en plus de nombreux commerces sont ouverts pour l’occasion. \nVous trouverez facilement un endroit pour vous garer \nTOUT SAVOIR 
URL:https://wallonie.events/activite/marche-de-aubel/2026-01-25/
LOCATION:Centre ville de Aubel\, centre ville de Aubel\, Aubel\, Région Wallonne\, 4880\, Belgique
CATEGORIES:Marchés
ATTACH;FMTTYPE=image/jpeg:https://wallonie.events/wp-content/uploads/2024/04/Marche-de-aubel.jpg
END:VEVENT
BEGIN:VEVENT
DTSTART;TZID=Europe/Brussels:20260120T080000
DTEND;TZID=Europe/Brussels:20260120T130000
DTSTAMP:20260421T113941
CREATED:20240423T161834Z
LAST-MODIFIED:20240423T161834Z
UID:10018772-1768896000-1768914000@wallonie.events
SUMMARY:marché de Aubel
DESCRIPTION:retrouvez le marché à Aubel le Dimanche et le mardi de 8h à 13h au millieu du village\, \nvous trouverez toutes sortes de produits allant de Fruits\, légumes\, charcuteries\, fromages\, pains\, poissons\, vêtements\, fleurs et plantes\,… rien ne manque en plus de nombreux commerces sont ouverts pour l’occasion. \nVous trouverez facilement un endroit pour vous garer \nTOUT SAVOIR 
URL:https://wallonie.events/activite/marche-de-aubel/2026-01-20/
LOCATION:Centre ville de Aubel\, centre ville de Aubel\, Aubel\, Région Wallonne\, 4880\, Belgique
CATEGORIES:Marchés
ATTACH;FMTTYPE=image/jpeg:https://wallonie.events/wp-content/uploads/2024/04/Marche-de-aubel.jpg
END:VEVENT
BEGIN:VEVENT
DTSTART;TZID=Europe/Brussels:20260118T080000
DTEND;TZID=Europe/Brussels:20260118T130000
DTSTAMP:20260421T113941
CREATED:20240423T161834Z
LAST-MODIFIED:20240423T161834Z
UID:10018771-1768723200-1768741200@wallonie.events
SUMMARY:marché de Aubel
DESCRIPTION:retrouvez le marché à Aubel le Dimanche et le mardi de 8h à 13h au millieu du village\, \nvous trouverez toutes sortes de produits allant de Fruits\, légumes\, charcuteries\, fromages\, pains\, poissons\, vêtements\, fleurs et plantes\,… rien ne manque en plus de nombreux commerces sont ouverts pour l’occasion. \nVous trouverez facilement un endroit pour vous garer \nTOUT SAVOIR 
URL:https://wallonie.events/activite/marche-de-aubel/2026-01-18/
LOCATION:Centre ville de Aubel\, centre ville de Aubel\, Aubel\, Région Wallonne\, 4880\, Belgique
CATEGORIES:Marchés
ATTACH;FMTTYPE=image/jpeg:https://wallonie.events/wp-content/uploads/2024/04/Marche-de-aubel.jpg
END:VEVENT
BEGIN:VEVENT
DTSTART;TZID=Europe/Brussels:20260113T080000
DTEND;TZID=Europe/Brussels:20260113T130000
DTSTAMP:20260421T113941
CREATED:20240423T161834Z
LAST-MODIFIED:20240423T161834Z
UID:10018770-1768291200-1768309200@wallonie.events
SUMMARY:marché de Aubel
DESCRIPTION:retrouvez le marché à Aubel le Dimanche et le mardi de 8h à 13h au millieu du village\, \nvous trouverez toutes sortes de produits allant de Fruits\, légumes\, charcuteries\, fromages\, pains\, poissons\, vêtements\, fleurs et plantes\,… rien ne manque en plus de nombreux commerces sont ouverts pour l’occasion. \nVous trouverez facilement un endroit pour vous garer \nTOUT SAVOIR 
URL:https://wallonie.events/activite/marche-de-aubel/2026-01-13/
LOCATION:Centre ville de Aubel\, centre ville de Aubel\, Aubel\, Région Wallonne\, 4880\, Belgique
CATEGORIES:Marchés
ATTACH;FMTTYPE=image/jpeg:https://wallonie.events/wp-content/uploads/2024/04/Marche-de-aubel.jpg
END:VEVENT
BEGIN:VEVENT
DTSTART;TZID=Europe/Brussels:20260111T080000
DTEND;TZID=Europe/Brussels:20260111T130000
DTSTAMP:20260421T113941
CREATED:20240423T161834Z
LAST-MODIFIED:20240423T161834Z
UID:10018769-1768118400-1768136400@wallonie.events
SUMMARY:marché de Aubel
DESCRIPTION:retrouvez le marché à Aubel le Dimanche et le mardi de 8h à 13h au millieu du village\, \nvous trouverez toutes sortes de produits allant de Fruits\, légumes\, charcuteries\, fromages\, pains\, poissons\, vêtements\, fleurs et plantes\,… rien ne manque en plus de nombreux commerces sont ouverts pour l’occasion. \nVous trouverez facilement un endroit pour vous garer \nTOUT SAVOIR 
URL:https://wallonie.events/activite/marche-de-aubel/2026-01-11/
LOCATION:Centre ville de Aubel\, centre ville de Aubel\, Aubel\, Région Wallonne\, 4880\, Belgique
CATEGORIES:Marchés
ATTACH;FMTTYPE=image/jpeg:https://wallonie.events/wp-content/uploads/2024/04/Marche-de-aubel.jpg
END:VEVENT
BEGIN:VEVENT
DTSTART;TZID=Europe/Brussels:20260106T080000
DTEND;TZID=Europe/Brussels:20260106T130000
DTSTAMP:20260421T113941
CREATED:20240423T161834Z
LAST-MODIFIED:20240423T161834Z
UID:10018768-1767686400-1767704400@wallonie.events
SUMMARY:marché de Aubel
DESCRIPTION:retrouvez le marché à Aubel le Dimanche et le mardi de 8h à 13h au millieu du village\, \nvous trouverez toutes sortes de produits allant de Fruits\, légumes\, charcuteries\, fromages\, pains\, poissons\, vêtements\, fleurs et plantes\,… rien ne manque en plus de nombreux commerces sont ouverts pour l’occasion. \nVous trouverez facilement un endroit pour vous garer \nTOUT SAVOIR 
URL:https://wallonie.events/activite/marche-de-aubel/2026-01-06/
LOCATION:Centre ville de Aubel\, centre ville de Aubel\, Aubel\, Région Wallonne\, 4880\, Belgique
CATEGORIES:Marchés
ATTACH;FMTTYPE=image/jpeg:https://wallonie.events/wp-content/uploads/2024/04/Marche-de-aubel.jpg
END:VEVENT
BEGIN:VEVENT
DTSTART;TZID=Europe/Brussels:20260104T080000
DTEND;TZID=Europe/Brussels:20260104T130000
DTSTAMP:20260421T113941
CREATED:20240423T161834Z
LAST-MODIFIED:20240423T161834Z
UID:10018767-1767513600-1767531600@wallonie.events
SUMMARY:marché de Aubel
DESCRIPTION:retrouvez le marché à Aubel le Dimanche et le mardi de 8h à 13h au millieu du village\, \nvous trouverez toutes sortes de produits allant de Fruits\, légumes\, charcuteries\, fromages\, pains\, poissons\, vêtements\, fleurs et plantes\,… rien ne manque en plus de nombreux commerces sont ouverts pour l’occasion. \nVous trouverez facilement un endroit pour vous garer \nTOUT SAVOIR 
URL:https://wallonie.events/activite/marche-de-aubel/2026-01-04/
LOCATION:Centre ville de Aubel\, centre ville de Aubel\, Aubel\, Région Wallonne\, 4880\, Belgique
CATEGORIES:Marchés
ATTACH;FMTTYPE=image/jpeg:https://wallonie.events/wp-content/uploads/2024/04/Marche-de-aubel.jpg
END:VEVENT
BEGIN:VEVENT
DTSTART;TZID=Europe/Brussels:20251230T080000
DTEND;TZID=Europe/Brussels:20251230T130000
DTSTAMP:20260421T113941
CREATED:20240423T161834Z
LAST-MODIFIED:20240423T161834Z
UID:10018766-1767081600-1767099600@wallonie.events
SUMMARY:marché de Aubel
DESCRIPTION:retrouvez le marché à Aubel le Dimanche et le mardi de 8h à 13h au millieu du village\, \nvous trouverez toutes sortes de produits allant de Fruits\, légumes\, charcuteries\, fromages\, pains\, poissons\, vêtements\, fleurs et plantes\,… rien ne manque en plus de nombreux commerces sont ouverts pour l’occasion. \nVous trouverez facilement un endroit pour vous garer \nTOUT SAVOIR 
URL:https://wallonie.events/activite/marche-de-aubel/2025-12-30/
LOCATION:Centre ville de Aubel\, centre ville de Aubel\, Aubel\, Région Wallonne\, 4880\, Belgique
CATEGORIES:Marchés
ATTACH;FMTTYPE=image/jpeg:https://wallonie.events/wp-content/uploads/2024/04/Marche-de-aubel.jpg
END:VEVENT
BEGIN:VEVENT
DTSTART;TZID=Europe/Brussels:20251228T080000
DTEND;TZID=Europe/Brussels:20251228T130000
DTSTAMP:20260421T113941
CREATED:20240423T161834Z
LAST-MODIFIED:20240423T161834Z
UID:10018765-1766908800-1766926800@wallonie.events
SUMMARY:marché de Aubel
DESCRIPTION:retrouvez le marché à Aubel le Dimanche et le mardi de 8h à 13h au millieu du village\, \nvous trouverez toutes sortes de produits allant de Fruits\, légumes\, charcuteries\, fromages\, pains\, poissons\, vêtements\, fleurs et plantes\,… rien ne manque en plus de nombreux commerces sont ouverts pour l’occasion. \nVous trouverez facilement un endroit pour vous garer \nTOUT SAVOIR 
URL:https://wallonie.events/activite/marche-de-aubel/2025-12-28/
LOCATION:Centre ville de Aubel\, centre ville de Aubel\, Aubel\, Région Wallonne\, 4880\, Belgique
CATEGORIES:Marchés
ATTACH;FMTTYPE=image/jpeg:https://wallonie.events/wp-content/uploads/2024/04/Marche-de-aubel.jpg
END:VEVENT
BEGIN:VEVENT
DTSTART;TZID=Europe/Brussels:20251223T080000
DTEND;TZID=Europe/Brussels:20251223T130000
DTSTAMP:20260421T113941
CREATED:20240423T161834Z
LAST-MODIFIED:20240423T161834Z
UID:10018764-1766476800-1766494800@wallonie.events
SUMMARY:marché de Aubel
DESCRIPTION:retrouvez le marché à Aubel le Dimanche et le mardi de 8h à 13h au millieu du village\, \nvous trouverez toutes sortes de produits allant de Fruits\, légumes\, charcuteries\, fromages\, pains\, poissons\, vêtements\, fleurs et plantes\,… rien ne manque en plus de nombreux commerces sont ouverts pour l’occasion. \nVous trouverez facilement un endroit pour vous garer \nTOUT SAVOIR 
URL:https://wallonie.events/activite/marche-de-aubel/2025-12-23/
LOCATION:Centre ville de Aubel\, centre ville de Aubel\, Aubel\, Région Wallonne\, 4880\, Belgique
CATEGORIES:Marchés
ATTACH;FMTTYPE=image/jpeg:https://wallonie.events/wp-content/uploads/2024/04/Marche-de-aubel.jpg
END:VEVENT
BEGIN:VEVENT
DTSTART;TZID=Europe/Brussels:20251221T080000
DTEND;TZID=Europe/Brussels:20251221T130000
DTSTAMP:20260421T113941
CREATED:20240423T161834Z
LAST-MODIFIED:20240423T161834Z
UID:10018763-1766304000-1766322000@wallonie.events
SUMMARY:marché de Aubel
DESCRIPTION:retrouvez le marché à Aubel le Dimanche et le mardi de 8h à 13h au millieu du village\, \nvous trouverez toutes sortes de produits allant de Fruits\, légumes\, charcuteries\, fromages\, pains\, poissons\, vêtements\, fleurs et plantes\,… rien ne manque en plus de nombreux commerces sont ouverts pour l’occasion. \nVous trouverez facilement un endroit pour vous garer \nTOUT SAVOIR 
URL:https://wallonie.events/activite/marche-de-aubel/2025-12-21/
LOCATION:Centre ville de Aubel\, centre ville de Aubel\, Aubel\, Région Wallonne\, 4880\, Belgique
CATEGORIES:Marchés
ATTACH;FMTTYPE=image/jpeg:https://wallonie.events/wp-content/uploads/2024/04/Marche-de-aubel.jpg
END:VEVENT
BEGIN:VEVENT
DTSTART;TZID=Europe/Brussels:20251216T080000
DTEND;TZID=Europe/Brussels:20251216T130000
DTSTAMP:20260421T113941
CREATED:20240423T161834Z
LAST-MODIFIED:20240423T161834Z
UID:10018762-1765872000-1765890000@wallonie.events
SUMMARY:marché de Aubel
DESCRIPTION:retrouvez le marché à Aubel le Dimanche et le mardi de 8h à 13h au millieu du village\, \nvous trouverez toutes sortes de produits allant de Fruits\, légumes\, charcuteries\, fromages\, pains\, poissons\, vêtements\, fleurs et plantes\,… rien ne manque en plus de nombreux commerces sont ouverts pour l’occasion. \nVous trouverez facilement un endroit pour vous garer \nTOUT SAVOIR 
URL:https://wallonie.events/activite/marche-de-aubel/2025-12-16/
LOCATION:Centre ville de Aubel\, centre ville de Aubel\, Aubel\, Région Wallonne\, 4880\, Belgique
CATEGORIES:Marchés
ATTACH;FMTTYPE=image/jpeg:https://wallonie.events/wp-content/uploads/2024/04/Marche-de-aubel.jpg
END:VEVENT
BEGIN:VEVENT
DTSTART;TZID=Europe/Brussels:20251214T080000
DTEND;TZID=Europe/Brussels:20251214T130000
DTSTAMP:20260421T113941
CREATED:20240423T161834Z
LAST-MODIFIED:20240423T161834Z
UID:10018761-1765699200-1765717200@wallonie.events
SUMMARY:marché de Aubel
DESCRIPTION:retrouvez le marché à Aubel le Dimanche et le mardi de 8h à 13h au millieu du village\, \nvous trouverez toutes sortes de produits allant de Fruits\, légumes\, charcuteries\, fromages\, pains\, poissons\, vêtements\, fleurs et plantes\,… rien ne manque en plus de nombreux commerces sont ouverts pour l’occasion. \nVous trouverez facilement un endroit pour vous garer \nTOUT SAVOIR 
URL:https://wallonie.events/activite/marche-de-aubel/2025-12-14/
LOCATION:Centre ville de Aubel\, centre ville de Aubel\, Aubel\, Région Wallonne\, 4880\, Belgique
CATEGORIES:Marchés
ATTACH;FMTTYPE=image/jpeg:https://wallonie.events/wp-content/uploads/2024/04/Marche-de-aubel.jpg
END:VEVENT
BEGIN:VEVENT
DTSTART;TZID=Europe/Brussels:20251209T080000
DTEND;TZID=Europe/Brussels:20251209T130000
DTSTAMP:20260421T113941
CREATED:20240423T161834Z
LAST-MODIFIED:20240423T161834Z
UID:10018760-1765267200-1765285200@wallonie.events
SUMMARY:marché de Aubel
DESCRIPTION:retrouvez le marché à Aubel le Dimanche et le mardi de 8h à 13h au millieu du village\, \nvous trouverez toutes sortes de produits allant de Fruits\, légumes\, charcuteries\, fromages\, pains\, poissons\, vêtements\, fleurs et plantes\,… rien ne manque en plus de nombreux commerces sont ouverts pour l’occasion. \nVous trouverez facilement un endroit pour vous garer \nTOUT SAVOIR 
URL:https://wallonie.events/activite/marche-de-aubel/2025-12-09/
LOCATION:Centre ville de Aubel\, centre ville de Aubel\, Aubel\, Région Wallonne\, 4880\, Belgique
CATEGORIES:Marchés
ATTACH;FMTTYPE=image/jpeg:https://wallonie.events/wp-content/uploads/2024/04/Marche-de-aubel.jpg
END:VEVENT
BEGIN:VEVENT
DTSTART;TZID=Europe/Brussels:20251207T080000
DTEND;TZID=Europe/Brussels:20251207T130000
DTSTAMP:20260421T113941
CREATED:20240423T161834Z
LAST-MODIFIED:20240423T161834Z
UID:10018759-1765094400-1765112400@wallonie.events
SUMMARY:marché de Aubel
DESCRIPTION:retrouvez le marché à Aubel le Dimanche et le mardi de 8h à 13h au millieu du village\, \nvous trouverez toutes sortes de produits allant de Fruits\, légumes\, charcuteries\, fromages\, pains\, poissons\, vêtements\, fleurs et plantes\,… rien ne manque en plus de nombreux commerces sont ouverts pour l’occasion. \nVous trouverez facilement un endroit pour vous garer \nTOUT SAVOIR 
URL:https://wallonie.events/activite/marche-de-aubel/2025-12-07/
LOCATION:Centre ville de Aubel\, centre ville de Aubel\, Aubel\, Région Wallonne\, 4880\, Belgique
CATEGORIES:Marchés
ATTACH;FMTTYPE=image/jpeg:https://wallonie.events/wp-content/uploads/2024/04/Marche-de-aubel.jpg
END:VEVENT
BEGIN:VEVENT
DTSTART;TZID=Europe/Brussels:20251202T080000
DTEND;TZID=Europe/Brussels:20251202T130000
DTSTAMP:20260421T113941
CREATED:20240423T161834Z
LAST-MODIFIED:20240423T161834Z
UID:10018758-1764662400-1764680400@wallonie.events
SUMMARY:marché de Aubel
DESCRIPTION:retrouvez le marché à Aubel le Dimanche et le mardi de 8h à 13h au millieu du village\, \nvous trouverez toutes sortes de produits allant de Fruits\, légumes\, charcuteries\, fromages\, pains\, poissons\, vêtements\, fleurs et plantes\,… rien ne manque en plus de nombreux commerces sont ouverts pour l’occasion. \nVous trouverez facilement un endroit pour vous garer \nTOUT SAVOIR 
URL:https://wallonie.events/activite/marche-de-aubel/2025-12-02/
LOCATION:Centre ville de Aubel\, centre ville de Aubel\, Aubel\, Région Wallonne\, 4880\, Belgique
CATEGORIES:Marchés
ATTACH;FMTTYPE=image/jpeg:https://wallonie.events/wp-content/uploads/2024/04/Marche-de-aubel.jpg
END:VEVENT
BEGIN:VEVENT
DTSTART;TZID=Europe/Brussels:20251130T080000
DTEND;TZID=Europe/Brussels:20251130T130000
DTSTAMP:20260421T113941
CREATED:20240423T161834Z
LAST-MODIFIED:20240423T161834Z
UID:10018757-1764489600-1764507600@wallonie.events
SUMMARY:marché de Aubel
DESCRIPTION:retrouvez le marché à Aubel le Dimanche et le mardi de 8h à 13h au millieu du village\, \nvous trouverez toutes sortes de produits allant de Fruits\, légumes\, charcuteries\, fromages\, pains\, poissons\, vêtements\, fleurs et plantes\,… rien ne manque en plus de nombreux commerces sont ouverts pour l’occasion. \nVous trouverez facilement un endroit pour vous garer \nTOUT SAVOIR 
URL:https://wallonie.events/activite/marche-de-aubel/2025-11-30/
LOCATION:Centre ville de Aubel\, centre ville de Aubel\, Aubel\, Région Wallonne\, 4880\, Belgique
CATEGORIES:Marchés
ATTACH;FMTTYPE=image/jpeg:https://wallonie.events/wp-content/uploads/2024/04/Marche-de-aubel.jpg
END:VEVENT
BEGIN:VEVENT
DTSTART;TZID=Europe/Brussels:20251125T080000
DTEND;TZID=Europe/Brussels:20251125T130000
DTSTAMP:20260421T113941
CREATED:20240423T161834Z
LAST-MODIFIED:20240423T161834Z
UID:10018756-1764057600-1764075600@wallonie.events
SUMMARY:marché de Aubel
DESCRIPTION:retrouvez le marché à Aubel le Dimanche et le mardi de 8h à 13h au millieu du village\, \nvous trouverez toutes sortes de produits allant de Fruits\, légumes\, charcuteries\, fromages\, pains\, poissons\, vêtements\, fleurs et plantes\,… rien ne manque en plus de nombreux commerces sont ouverts pour l’occasion. \nVous trouverez facilement un endroit pour vous garer \nTOUT SAVOIR 
URL:https://wallonie.events/activite/marche-de-aubel/2025-11-25/
LOCATION:Centre ville de Aubel\, centre ville de Aubel\, Aubel\, Région Wallonne\, 4880\, Belgique
CATEGORIES:Marchés
ATTACH;FMTTYPE=image/jpeg:https://wallonie.events/wp-content/uploads/2024/04/Marche-de-aubel.jpg
END:VEVENT
BEGIN:VEVENT
DTSTART;TZID=Europe/Brussels:20251123T080000
DTEND;TZID=Europe/Brussels:20251123T130000
DTSTAMP:20260421T113941
CREATED:20240423T161834Z
LAST-MODIFIED:20240423T161834Z
UID:10018755-1763884800-1763902800@wallonie.events
SUMMARY:marché de Aubel
DESCRIPTION:retrouvez le marché à Aubel le Dimanche et le mardi de 8h à 13h au millieu du village\, \nvous trouverez toutes sortes de produits allant de Fruits\, légumes\, charcuteries\, fromages\, pains\, poissons\, vêtements\, fleurs et plantes\,… rien ne manque en plus de nombreux commerces sont ouverts pour l’occasion. \nVous trouverez facilement un endroit pour vous garer \nTOUT SAVOIR 
URL:https://wallonie.events/activite/marche-de-aubel/2025-11-23/
LOCATION:Centre ville de Aubel\, centre ville de Aubel\, Aubel\, Région Wallonne\, 4880\, Belgique
CATEGORIES:Marchés
ATTACH;FMTTYPE=image/jpeg:https://wallonie.events/wp-content/uploads/2024/04/Marche-de-aubel.jpg
END:VEVENT
BEGIN:VEVENT
DTSTART;TZID=Europe/Brussels:20251118T080000
DTEND;TZID=Europe/Brussels:20251118T130000
DTSTAMP:20260421T113941
CREATED:20240423T161834Z
LAST-MODIFIED:20240423T161834Z
UID:10018754-1763452800-1763470800@wallonie.events
SUMMARY:marché de Aubel
DESCRIPTION:retrouvez le marché à Aubel le Dimanche et le mardi de 8h à 13h au millieu du village\, \nvous trouverez toutes sortes de produits allant de Fruits\, légumes\, charcuteries\, fromages\, pains\, poissons\, vêtements\, fleurs et plantes\,… rien ne manque en plus de nombreux commerces sont ouverts pour l’occasion. \nVous trouverez facilement un endroit pour vous garer \nTOUT SAVOIR 
URL:https://wallonie.events/activite/marche-de-aubel/2025-11-18/
LOCATION:Centre ville de Aubel\, centre ville de Aubel\, Aubel\, Région Wallonne\, 4880\, Belgique
CATEGORIES:Marchés
ATTACH;FMTTYPE=image/jpeg:https://wallonie.events/wp-content/uploads/2024/04/Marche-de-aubel.jpg
END:VEVENT
BEGIN:VEVENT
DTSTART;TZID=Europe/Brussels:20251116T080000
DTEND;TZID=Europe/Brussels:20251116T130000
DTSTAMP:20260421T113941
CREATED:20240423T161834Z
LAST-MODIFIED:20240423T161834Z
UID:10018753-1763280000-1763298000@wallonie.events
SUMMARY:marché de Aubel
DESCRIPTION:retrouvez le marché à Aubel le Dimanche et le mardi de 8h à 13h au millieu du village\, \nvous trouverez toutes sortes de produits allant de Fruits\, légumes\, charcuteries\, fromages\, pains\, poissons\, vêtements\, fleurs et plantes\,… rien ne manque en plus de nombreux commerces sont ouverts pour l’occasion. \nVous trouverez facilement un endroit pour vous garer \nTOUT SAVOIR 
URL:https://wallonie.events/activite/marche-de-aubel/2025-11-16/
LOCATION:Centre ville de Aubel\, centre ville de Aubel\, Aubel\, Région Wallonne\, 4880\, Belgique
CATEGORIES:Marchés
ATTACH;FMTTYPE=image/jpeg:https://wallonie.events/wp-content/uploads/2024/04/Marche-de-aubel.jpg
END:VEVENT
BEGIN:VEVENT
DTSTART;TZID=Europe/Brussels:20251111T080000
DTEND;TZID=Europe/Brussels:20251111T130000
DTSTAMP:20260421T113941
CREATED:20240423T161834Z
LAST-MODIFIED:20240423T161834Z
UID:10018752-1762848000-1762866000@wallonie.events
SUMMARY:marché de Aubel
DESCRIPTION:retrouvez le marché à Aubel le Dimanche et le mardi de 8h à 13h au millieu du village\, \nvous trouverez toutes sortes de produits allant de Fruits\, légumes\, charcuteries\, fromages\, pains\, poissons\, vêtements\, fleurs et plantes\,… rien ne manque en plus de nombreux commerces sont ouverts pour l’occasion. \nVous trouverez facilement un endroit pour vous garer \nTOUT SAVOIR 
URL:https://wallonie.events/activite/marche-de-aubel/2025-11-11/
LOCATION:Centre ville de Aubel\, centre ville de Aubel\, Aubel\, Région Wallonne\, 4880\, Belgique
CATEGORIES:Marchés
ATTACH;FMTTYPE=image/jpeg:https://wallonie.events/wp-content/uploads/2024/04/Marche-de-aubel.jpg
END:VEVENT
BEGIN:VEVENT
DTSTART;TZID=Europe/Brussels:20251109T080000
DTEND;TZID=Europe/Brussels:20251109T130000
DTSTAMP:20260421T113941
CREATED:20240423T161834Z
LAST-MODIFIED:20240423T161834Z
UID:10018751-1762675200-1762693200@wallonie.events
SUMMARY:marché de Aubel
DESCRIPTION:retrouvez le marché à Aubel le Dimanche et le mardi de 8h à 13h au millieu du village\, \nvous trouverez toutes sortes de produits allant de Fruits\, légumes\, charcuteries\, fromages\, pains\, poissons\, vêtements\, fleurs et plantes\,… rien ne manque en plus de nombreux commerces sont ouverts pour l’occasion. \nVous trouverez facilement un endroit pour vous garer \nTOUT SAVOIR 
URL:https://wallonie.events/activite/marche-de-aubel/2025-11-09/
LOCATION:Centre ville de Aubel\, centre ville de Aubel\, Aubel\, Région Wallonne\, 4880\, Belgique
CATEGORIES:Marchés
ATTACH;FMTTYPE=image/jpeg:https://wallonie.events/wp-content/uploads/2024/04/Marche-de-aubel.jpg
END:VEVENT
BEGIN:VEVENT
DTSTART;TZID=Europe/Brussels:20251104T080000
DTEND;TZID=Europe/Brussels:20251104T130000
DTSTAMP:20260421T113941
CREATED:20240423T161834Z
LAST-MODIFIED:20240423T161834Z
UID:10018750-1762243200-1762261200@wallonie.events
SUMMARY:marché de Aubel
DESCRIPTION:retrouvez le marché à Aubel le Dimanche et le mardi de 8h à 13h au millieu du village\, \nvous trouverez toutes sortes de produits allant de Fruits\, légumes\, charcuteries\, fromages\, pains\, poissons\, vêtements\, fleurs et plantes\,… rien ne manque en plus de nombreux commerces sont ouverts pour l’occasion. \nVous trouverez facilement un endroit pour vous garer \nTOUT SAVOIR 
URL:https://wallonie.events/activite/marche-de-aubel/2025-11-04/
LOCATION:Centre ville de Aubel\, centre ville de Aubel\, Aubel\, Région Wallonne\, 4880\, Belgique
CATEGORIES:Marchés
ATTACH;FMTTYPE=image/jpeg:https://wallonie.events/wp-content/uploads/2024/04/Marche-de-aubel.jpg
END:VEVENT
BEGIN:VEVENT
DTSTART;TZID=Europe/Brussels:20251102T080000
DTEND;TZID=Europe/Brussels:20251102T130000
DTSTAMP:20260421T113941
CREATED:20240423T161834Z
LAST-MODIFIED:20240423T161834Z
UID:10018749-1762070400-1762088400@wallonie.events
SUMMARY:marché de Aubel
DESCRIPTION:retrouvez le marché à Aubel le Dimanche et le mardi de 8h à 13h au millieu du village\, \nvous trouverez toutes sortes de produits allant de Fruits\, légumes\, charcuteries\, fromages\, pains\, poissons\, vêtements\, fleurs et plantes\,… rien ne manque en plus de nombreux commerces sont ouverts pour l’occasion. \nVous trouverez facilement un endroit pour vous garer \nTOUT SAVOIR 
URL:https://wallonie.events/activite/marche-de-aubel/2025-11-02/
LOCATION:Centre ville de Aubel\, centre ville de Aubel\, Aubel\, Région Wallonne\, 4880\, Belgique
CATEGORIES:Marchés
ATTACH;FMTTYPE=image/jpeg:https://wallonie.events/wp-content/uploads/2024/04/Marche-de-aubel.jpg
END:VEVENT
BEGIN:VEVENT
DTSTART;TZID=Europe/Brussels:20251028T080000
DTEND;TZID=Europe/Brussels:20251028T130000
DTSTAMP:20260421T113941
CREATED:20240423T161834Z
LAST-MODIFIED:20240423T161834Z
UID:10018748-1761638400-1761656400@wallonie.events
SUMMARY:marché de Aubel
DESCRIPTION:retrouvez le marché à Aubel le Dimanche et le mardi de 8h à 13h au millieu du village\, \nvous trouverez toutes sortes de produits allant de Fruits\, légumes\, charcuteries\, fromages\, pains\, poissons\, vêtements\, fleurs et plantes\,… rien ne manque en plus de nombreux commerces sont ouverts pour l’occasion. \nVous trouverez facilement un endroit pour vous garer \nTOUT SAVOIR 
URL:https://wallonie.events/activite/marche-de-aubel/2025-10-28/
LOCATION:Centre ville de Aubel\, centre ville de Aubel\, Aubel\, Région Wallonne\, 4880\, Belgique
CATEGORIES:Marchés
ATTACH;FMTTYPE=image/jpeg:https://wallonie.events/wp-content/uploads/2024/04/Marche-de-aubel.jpg
END:VEVENT
END:VCALENDAR