BEGIN:VCALENDAR
VERSION:2.0
PRODID:-//Wallonie activités &amp; Shopping - ECPv6.15.20//NONSGML v1.0//EN
CALSCALE:GREGORIAN
METHOD:PUBLISH
X-WR-CALNAME:Wallonie activités &amp; Shopping
X-ORIGINAL-URL:https://wallonie.events
X-WR-CALDESC:Évènements pour Wallonie activités &amp; Shopping
REFRESH-INTERVAL;VALUE=DURATION:PT1H
X-Robots-Tag:noindex
X-PUBLISHED-TTL:PT1H
BEGIN:VTIMEZONE
TZID:Europe/Brussels
BEGIN:DAYLIGHT
TZOFFSETFROM:+0100
TZOFFSETTO:+0200
TZNAME:CEST
DTSTART:20250330T010000
END:DAYLIGHT
BEGIN:STANDARD
TZOFFSETFROM:+0200
TZOFFSETTO:+0100
TZNAME:CET
DTSTART:20251026T010000
END:STANDARD
BEGIN:DAYLIGHT
TZOFFSETFROM:+0100
TZOFFSETTO:+0200
TZNAME:CEST
DTSTART:20260329T010000
END:DAYLIGHT
BEGIN:STANDARD
TZOFFSETFROM:+0200
TZOFFSETTO:+0100
TZNAME:CET
DTSTART:20261025T010000
END:STANDARD
BEGIN:DAYLIGHT
TZOFFSETFROM:+0100
TZOFFSETTO:+0200
TZNAME:CEST
DTSTART:20270328T010000
END:DAYLIGHT
BEGIN:STANDARD
TZOFFSETFROM:+0200
TZOFFSETTO:+0100
TZNAME:CET
DTSTART:20271031T010000
END:STANDARD
END:VTIMEZONE
BEGIN:VEVENT
DTSTART;VALUE=DATE:20260413
DTEND;VALUE=DATE:20260414
DTSTAMP:20260426T005231
CREATED:20231214T123703Z
LAST-MODIFIED:20231214T124601Z
UID:10014847-1776038400-1776124799@wallonie.events
SUMMARY:Piscine d'Embourg
DESCRIPTION:Piscine d’Embourg\n\n\n\n\n\n\n\n\n\nLa piscine communale est accessible sur réservation prioritairement\, par téléphone au numéro suivant: 04.361.56.80 sauf pour les heures indiquées par le symbole astérisque (*) \nHORAIRES \nLundi: 7h30 à 8h30\nMardi: 13h00 à 20h00\nMercredi: 7h30 à 12h00 – 13h00 à 18h30\nJeudi: 8h00 à 12h00 – 13h00 à 19h00\nVendredi: 15h30 à 19h00\nSamedi: 9h00 à 12h00 – 14h00 à 19h00*\nDimanche: 10h00 à 13h00 \n\n\n\n\nEMAIL \n georges.piret@chaudfontaine.be \nTÉLÉPHONE \n04.361.56.80 \nRESPONSABLE \nGeorges Piret \n  \n\n\n\n\n\n\n\n\n\n\n\nTARIF POUR LES NON-CALIDIFONTAINS \n\n5€ – adulte (14 à 60 ans)\n4€ – enfant (4 à 13 ans)\nGratuit pour les moins de 4 ans accompagnés d’un parent\n4€ – pensionné (à partir de 60 ans)\n2€ – PMR\n4€ – écoles (heures scolaires)\n4€ – groupes reconnus : patro\, scouts\,…(min. 10 pers. – 1h00 max. – réservation obligatoire)\nAbonnements\n\n85€ – 20 bains (valable 12 mois)\n320€ – annuel\n\n\n\n\n\n\n\n\n\n\n\nTARIF POUR LES CALIDIFONTAINS\n(SUR PRÉSENTATION DE LA CARTE D’IDENTITÉ) \n\n3€ – adulte (14 à 60 ans)\n2.50€ – enfant (4 à 13 ans)\nGratuit pour les moins de 4 ans accompagnés d’un parent\n2.50€ – pensionné (à partir de 60 ans)\n1.50€ – PMR\n2€ – écoles (heures scolaires)\n2€ – groupes reconnus : patro\, scouts\,…(min. 10 pers. – 1h00 max. – réservation obligatoire)\nAbonnements\n\n50€ – 20 bains (valable 12 mois)\n220€ – annuel
URL:https://wallonie.events/activite/piscine-dembourg/2026-04-13/
LOCATION:PISCINE D’EMBOURG\, Au Chession\, 8\, Chaudfontaine\, Région Wallonne\, 1300\, Belgique
CATEGORIES:Piscine,Sport
ATTACH;FMTTYPE=image/jpeg:https://wallonie.events/wp-content/uploads/2023/12/Piscine-Chaudefontaine.jpg
ORGANIZER;CN="Ville de Chaudefontaine":MAILTO:commune@chaudfontaine.be
END:VEVENT
BEGIN:VEVENT
DTSTART;VALUE=DATE:20260413
DTEND;VALUE=DATE:20260414
DTSTAMP:20260426T005231
CREATED:20240424T142403Z
LAST-MODIFIED:20240424T144706Z
UID:10019234-1776038400-1776124799@wallonie.events
SUMMARY:Marché de Fleurus
DESCRIPTION:Vous trouverez toutes sortes de produits pour petits et grands lors du marché de fleurus qui a lieu tous les Lundis. \n  \nTous savoir \n 
URL:https://wallonie.events/activite/marche-de-fleurus/2026-04-13/
LOCATION:Place Ferrer\, Place Ferrer\, Fleurus\, Région Wallonne\, 6220\, Belgique
CATEGORIES:Marchés
ATTACH;FMTTYPE=image/jpeg:https://wallonie.events/wp-content/uploads/2024/04/Marche-de-Fleurus.jpg
END:VEVENT
BEGIN:VEVENT
DTSTART;VALUE=DATE:20260413
DTEND;VALUE=DATE:20260414
DTSTAMP:20260426T005231
CREATED:20250908T130426Z
LAST-MODIFIED:20250908T134455Z
UID:10025429-1776038400-1776124799@wallonie.events
SUMMARY:Centre Sportif de Bertransart
DESCRIPTION:Envie de bouger et de découvrir de nouvelles activités sportives en Wallonie ? Le Centre Sportif du Bertransart\, situé à Gerpinnes\, est l’endroit idéal pour profiter d’infrastructures modernes et variées. Entre terrains de tennis\, pistes de padel couvertes\, salle de fitness et même un practice de golf\, ce complexe sportif s’adresse aussi bien aux familles qu’aux sportifs confirmés. Accessible\, convivial et bien équipé\, il fait partie des lieux incontournables pour pratiquer le sport et se détendre en Wallonie. \nHoraires : \n\n\n\nlundi\n10:00–22:00\n\n\nmardi\n09:30–22:00\n\n\nmercredi\n10:00–22:00\n\n\njeudi\n09:00–22:00\n\n\nvendredi\n10:00–00:00\n\n\nsamedi\n09:00–20:00\n\n\ndimanche\n09:00–22:00\n\n\n\n  \nContact : \n071218900
URL:https://wallonie.events/activite/centre-sportif-de-bertransart/2026-04-13/
LOCATION:Centre sportif de Bertransart\, Rte de Philippeville 45\, Gerpinnes\, wallonie\, 6120\, Belgique
CATEGORIES:Sport,Stage
ATTACH;FMTTYPE=image/webp:https://wallonie.events/wp-content/uploads/2025/09/centre-sportif-de-beransart-wallonie.webp
END:VEVENT
BEGIN:VEVENT
DTSTART;TZID=Europe/Brussels:20260413T190000
DTEND;TZID=Europe/Brussels:20260416T220000
DTSTAMP:20260426T005231
CREATED:20260326T170537Z
LAST-MODIFIED:20260327T124116Z
UID:10027415-1776106800-1776376800@wallonie.events
SUMMARY:Cinéma des Cultures
DESCRIPTION:Cet événement a pour vocation de créer une passerelle entre le 7ᵉ art et les débats de société.\nLa thématique retenue cette année\, « Inégalités et justice »\, s’inscrit dans la continuité de nos réflexions et vise à favoriser les rencontres ainsi que le dialogue. À travers cette édition\, nous interrogerons les valeurs de la justice et la portée de ce pouvoir essentiel dans l’accompagnement et l’évolution de nos démocraties.\nLe programme s’ouvre le 13 avril à 19h avec la soirée d’ouverture intitulée « Justice et liberté »\, autour du film Aïcha de Mehdi M. Barsaoui. Ce long-métrage propose le combat intime d’une jeune femme tunisienne pour sa liberté et son identité face aux pressions sociales.\nLa seconde soirée aura lieu le 14 avril à 19h et proposera le film Stups d’Alice Odiot et Jean-Robert Viallet. Ce documentaire met en lumière le face-à-face de deux mondes : celui de la robe d’audience et celui de celles et ceux qui vivent des allers-retours en prison et sera suivi d’un débat.\nEnfin\, la dernière soirée le 16 avril à 19h\, sur le thème « Justice et légalité » \, présentera le film Illégal d’Olivier Masset-Depasse. Ce film retrace le parcours éprouvant d’une immigrée sans papiers\, confrontée à la rétention administrative et à la déshumanisation.
URL:https://wallonie.events/activite/cinema-des-cultures/
LOCATION:Rue du Séminaire 22 5000 Namur\, Rue du Séminaire 22\, Namur\, 5000\, Belgique
CATEGORIES:Bien-être,Festival,Spectacles
ATTACH;FMTTYPE=image/jpeg:https://wallonie.events/wp-content/uploads/2026/03/Cinema-des-Cultures-2026.jpg
ORGANIZER;CN="Carrefour des Cultures asbl":MAILTO:jeanmarie.delmotte@carrefourdescultures.org
END:VEVENT
END:VCALENDAR