BEGIN:VCALENDAR
VERSION:2.0
PRODID:-//Wallonie activités &amp; Shopping - ECPv6.15.20//NONSGML v1.0//EN
CALSCALE:GREGORIAN
METHOD:PUBLISH
X-ORIGINAL-URL:https://wallonie.events
X-WR-CALDESC:Évènements pour Wallonie activités &amp; Shopping
REFRESH-INTERVAL;VALUE=DURATION:PT1H
X-Robots-Tag:noindex
X-PUBLISHED-TTL:PT1H
BEGIN:VTIMEZONE
TZID:Europe/Brussels
BEGIN:DAYLIGHT
TZOFFSETFROM:+0100
TZOFFSETTO:+0200
TZNAME:CEST
DTSTART:20250330T010000
END:DAYLIGHT
BEGIN:STANDARD
TZOFFSETFROM:+0200
TZOFFSETTO:+0100
TZNAME:CET
DTSTART:20251026T010000
END:STANDARD
BEGIN:DAYLIGHT
TZOFFSETFROM:+0100
TZOFFSETTO:+0200
TZNAME:CEST
DTSTART:20260329T010000
END:DAYLIGHT
BEGIN:STANDARD
TZOFFSETFROM:+0200
TZOFFSETTO:+0100
TZNAME:CET
DTSTART:20261025T010000
END:STANDARD
BEGIN:DAYLIGHT
TZOFFSETFROM:+0100
TZOFFSETTO:+0200
TZNAME:CEST
DTSTART:20270328T010000
END:DAYLIGHT
BEGIN:STANDARD
TZOFFSETFROM:+0200
TZOFFSETTO:+0100
TZNAME:CET
DTSTART:20271031T010000
END:STANDARD
END:VTIMEZONE
BEGIN:VEVENT
DTSTART;TZID=Europe/Brussels:20260327T100000
DTEND;TZID=Europe/Brussels:20260330T190000
DTSTAMP:20260426T023303
CREATED:20260209T172351Z
LAST-MODIFIED:20260209T182704Z
UID:10027041-1774605600-1774897200@wallonie.events
SUMMARY:SALON BOIS & HABITAT
DESCRIPTION:L’édition 2026 de Bois & Habitat\, 𝐥’𝐮𝐧𝐢𝐪𝐮𝐞 𝐬𝐚𝐥𝐨𝐧 𝐛𝐞𝐥𝐠𝐞 𝐝𝐞́𝐝𝐢𝐞́ 𝐚𝐮 𝐛𝐨𝐢𝐬 𝐞𝐭 𝐚𝐮𝐱 𝐞́𝐜𝐨-𝐦𝐚𝐭𝐞́𝐫𝐢𝐚𝐮𝐱\, se déroulera du vendredi 27 au lundi 30 mars à Namur Expo. \nConstruire\, rénover\, agrandir\, aménager : explorez tout le potentiel du bois et des techniques et matériaux écologiques pour vos projets. Esthétique naturelle\, intérieurs chaleureux\, sains et confortables\, performance énergétique\, impact environnemental réduit : toutes les raisons sont bonnes pour faire le choix du bois ! \nVisiter Bois & Habitat\, c’est : \n Rencontrer 𝟏𝟓𝟎 𝐩𝐫𝐨𝐟𝐞𝐬𝐬𝐢𝐨𝐧𝐧𝐞𝐥𝐬 spécialisés et passionnés\, pour un maximum de conseils et un aperçu complet des usages et atouts du bois et des éco-matériaux \n Profiter d’un 𝐩𝐫𝐨𝐠𝐫𝐚𝐦𝐦𝐞 𝐝𝐞 𝐪𝐮𝐚𝐥𝐢𝐭𝐞́ conçu avec les acteurs-clés du secteur pour une visite hautement inspirante : 𝐜𝐨𝐧𝐟𝐞́𝐫𝐞𝐧𝐜𝐞𝐬\, 𝐝𝐞́𝐦𝐨𝐧𝐬𝐭𝐫𝐚𝐭𝐢𝐨𝐧𝐬\, 𝐚𝐭𝐞𝐥𝐢𝐞𝐫𝐬… \n Plonger dans le défi de la transition carbone à travers le 𝐩𝐫𝐨𝐠𝐫𝐚𝐦𝐦𝐞 𝐩𝐫𝐨𝐟𝐞𝐬𝐬𝐢𝐨𝐧𝐧𝐞𝐥 𝐝𝐮 𝐅𝐨𝐫𝐮𝐦 𝐇𝐨𝐫𝐢𝐳𝐨𝐧 𝐁𝐨𝐢𝐬 (𝟐𝐞 𝐞́𝐝𝐢𝐭𝐢𝐨𝐧) ou en découvrant des solutions bas carbone innovantes avec le bois et les biosourcés sur la 𝐑𝐨𝐮𝐭𝐞 𝐝𝐞 𝐥’𝐀𝐫𝐜𝐡𝐢𝐭𝐞𝐜𝐭𝐞 \n Trouver réponses et 𝐜𝐨𝐧𝐬𝐞𝐢𝐥𝐬 sur l’usage du bois auprès des experts indépendants de la filière sur 𝐥’𝐄𝐬𝐩𝐚𝐜𝐞 𝐈𝐧𝐟𝐨 𝐁𝐨𝐢𝐬 \n Dénicher des meubles et objets « coups de cœur » au 𝐒𝐪𝐮𝐚𝐫𝐞 𝐝𝐞𝐬 𝐀𝐫𝐭𝐢𝐬𝐚𝐧𝐬 𝐞𝐭 𝐃𝐞𝐬𝐢𝐠𝐧𝐞𝐫𝐬 \n Tenter sa chance au 𝐜𝐨𝐧𝐜𝐨𝐮𝐫𝐬 officiel du salon\, organisé en partenariat avec PEFC Belgique
URL:https://wallonie.events/activite/salon-bois-habitat/
LOCATION:2\, Avenue Sergent Vrithoff\, 5000 Namur\, Belgique\, 2\, Avenue Sergent Vrithoff\, 5000 Namur\, Belgique
CATEGORIES:Salon
ATTACH;FMTTYPE=image/jpeg:https://wallonie.events/wp-content/uploads/2026/02/batit-2026.jpg
ORGANIZER;CN="Easyfairs":MAILTO:bois-habitat@easyfairs.com
END:VEVENT
BEGIN:VEVENT
DTSTART;VALUE=DATE:20260330
DTEND;VALUE=DATE:20260331
DTSTAMP:20260426T023303
CREATED:20231214T123703Z
LAST-MODIFIED:20231214T124601Z
UID:10014833-1774828800-1774915199@wallonie.events
SUMMARY:Piscine d'Embourg
DESCRIPTION:Piscine d’Embourg\n\n\n\n\n\n\n\n\n\nLa piscine communale est accessible sur réservation prioritairement\, par téléphone au numéro suivant: 04.361.56.80 sauf pour les heures indiquées par le symbole astérisque (*) \nHORAIRES \nLundi: 7h30 à 8h30\nMardi: 13h00 à 20h00\nMercredi: 7h30 à 12h00 – 13h00 à 18h30\nJeudi: 8h00 à 12h00 – 13h00 à 19h00\nVendredi: 15h30 à 19h00\nSamedi: 9h00 à 12h00 – 14h00 à 19h00*\nDimanche: 10h00 à 13h00 \n\n\n\n\nEMAIL \n georges.piret@chaudfontaine.be \nTÉLÉPHONE \n04.361.56.80 \nRESPONSABLE \nGeorges Piret \n  \n\n\n\n\n\n\n\n\n\n\n\nTARIF POUR LES NON-CALIDIFONTAINS \n\n5€ – adulte (14 à 60 ans)\n4€ – enfant (4 à 13 ans)\nGratuit pour les moins de 4 ans accompagnés d’un parent\n4€ – pensionné (à partir de 60 ans)\n2€ – PMR\n4€ – écoles (heures scolaires)\n4€ – groupes reconnus : patro\, scouts\,…(min. 10 pers. – 1h00 max. – réservation obligatoire)\nAbonnements\n\n85€ – 20 bains (valable 12 mois)\n320€ – annuel\n\n\n\n\n\n\n\n\n\n\n\nTARIF POUR LES CALIDIFONTAINS\n(SUR PRÉSENTATION DE LA CARTE D’IDENTITÉ) \n\n3€ – adulte (14 à 60 ans)\n2.50€ – enfant (4 à 13 ans)\nGratuit pour les moins de 4 ans accompagnés d’un parent\n2.50€ – pensionné (à partir de 60 ans)\n1.50€ – PMR\n2€ – écoles (heures scolaires)\n2€ – groupes reconnus : patro\, scouts\,…(min. 10 pers. – 1h00 max. – réservation obligatoire)\nAbonnements\n\n50€ – 20 bains (valable 12 mois)\n220€ – annuel
URL:https://wallonie.events/activite/piscine-dembourg/2026-03-30/
LOCATION:PISCINE D’EMBOURG\, Au Chession\, 8\, Chaudfontaine\, Région Wallonne\, 1300\, Belgique
CATEGORIES:Piscine,Sport
ATTACH;FMTTYPE=image/jpeg:https://wallonie.events/wp-content/uploads/2023/12/Piscine-Chaudefontaine.jpg
ORGANIZER;CN="Ville de Chaudefontaine":MAILTO:commune@chaudfontaine.be
END:VEVENT
BEGIN:VEVENT
DTSTART;VALUE=DATE:20260330
DTEND;VALUE=DATE:20260331
DTSTAMP:20260426T023303
CREATED:20240424T142403Z
LAST-MODIFIED:20240424T144706Z
UID:10019232-1774828800-1774915199@wallonie.events
SUMMARY:Marché de Fleurus
DESCRIPTION:Vous trouverez toutes sortes de produits pour petits et grands lors du marché de fleurus qui a lieu tous les Lundis. \n  \nTous savoir \n 
URL:https://wallonie.events/activite/marche-de-fleurus/2026-03-30/
LOCATION:Place Ferrer\, Place Ferrer\, Fleurus\, Région Wallonne\, 6220\, Belgique
CATEGORIES:Marchés
ATTACH;FMTTYPE=image/jpeg:https://wallonie.events/wp-content/uploads/2024/04/Marche-de-Fleurus.jpg
END:VEVENT
BEGIN:VEVENT
DTSTART;VALUE=DATE:20260330
DTEND;VALUE=DATE:20260331
DTSTAMP:20260426T023303
CREATED:20250908T130426Z
LAST-MODIFIED:20250908T134455Z
UID:10025415-1774828800-1774915199@wallonie.events
SUMMARY:Centre Sportif de Bertransart
DESCRIPTION:Envie de bouger et de découvrir de nouvelles activités sportives en Wallonie ? Le Centre Sportif du Bertransart\, situé à Gerpinnes\, est l’endroit idéal pour profiter d’infrastructures modernes et variées. Entre terrains de tennis\, pistes de padel couvertes\, salle de fitness et même un practice de golf\, ce complexe sportif s’adresse aussi bien aux familles qu’aux sportifs confirmés. Accessible\, convivial et bien équipé\, il fait partie des lieux incontournables pour pratiquer le sport et se détendre en Wallonie. \nHoraires : \n\n\n\nlundi\n10:00–22:00\n\n\nmardi\n09:30–22:00\n\n\nmercredi\n10:00–22:00\n\n\njeudi\n09:00–22:00\n\n\nvendredi\n10:00–00:00\n\n\nsamedi\n09:00–20:00\n\n\ndimanche\n09:00–22:00\n\n\n\n  \nContact : \n071218900
URL:https://wallonie.events/activite/centre-sportif-de-bertransart/2026-03-30/
LOCATION:Centre sportif de Bertransart\, Rte de Philippeville 45\, Gerpinnes\, wallonie\, 6120\, Belgique
CATEGORIES:Sport,Stage
ATTACH;FMTTYPE=image/webp:https://wallonie.events/wp-content/uploads/2025/09/centre-sportif-de-beransart-wallonie.webp
END:VEVENT
END:VCALENDAR